BEGIN:VCALENDAR
VERSION:2.0
PRODID:-//myAirplane - ECPv6.15.20//NONSGML v1.0//EN
CALSCALE:GREGORIAN
METHOD:PUBLISH
X-WR-CALNAME:myAirplane
X-ORIGINAL-URL:https://www.myairplane.de
X-WR-CALDESC:Veranstaltungen für myAirplane
REFRESH-INTERVAL;VALUE=DURATION:PT1H
X-Robots-Tag:noindex
X-PUBLISHED-TTL:PT1H
BEGIN:VTIMEZONE
TZID:Europe/Berlin
BEGIN:DAYLIGHT
TZOFFSETFROM:+0100
TZOFFSETTO:+0200
TZNAME:CEST
DTSTART:20250330T010000
END:DAYLIGHT
BEGIN:STANDARD
TZOFFSETFROM:+0200
TZOFFSETTO:+0100
TZNAME:CET
DTSTART:20251026T010000
END:STANDARD
BEGIN:DAYLIGHT
TZOFFSETFROM:+0100
TZOFFSETTO:+0200
TZNAME:CEST
DTSTART:20260329T010000
END:DAYLIGHT
BEGIN:STANDARD
TZOFFSETFROM:+0200
TZOFFSETTO:+0100
TZNAME:CET
DTSTART:20261025T010000
END:STANDARD
BEGIN:DAYLIGHT
TZOFFSETFROM:+0100
TZOFFSETTO:+0200
TZNAME:CEST
DTSTART:20270328T010000
END:DAYLIGHT
BEGIN:STANDARD
TZOFFSETFROM:+0200
TZOFFSETTO:+0100
TZNAME:CET
DTSTART:20271031T010000
END:STANDARD
END:VTIMEZONE
BEGIN:VEVENT
DTSTART;TZID=Europe/Berlin:20260605T130000
DTEND;TZID=Europe/Berlin:20260607T200000
DTSTAMP:20260421T155549
CREATED:20260113T110831Z
LAST-MODIFIED:20260113T110831Z
UID:5168-1780664400-1780862400@www.myairplane.de
SUMMARY:Kundenbuchung
DESCRIPTION:Constantin
URL:https://www.myairplane.de/event/kundenbuchung-484/
CATEGORIES:Cirrus SR22 D-EMYA
END:VEVENT
BEGIN:VEVENT
DTSTART;TZID=Europe/Berlin:20260612T090000
DTEND;TZID=Europe/Berlin:20260614T200000
DTSTAMP:20260421T155549
CREATED:20251125T194547Z
LAST-MODIFIED:20251125T194547Z
UID:5139-1781254800-1781467200@www.myairplane.de
SUMMARY:Kundenbuchung
DESCRIPTION:Tomasz
URL:https://www.myairplane.de/event/kundenbuchung-478/
CATEGORIES:Cirrus SR22 D-EMYA
END:VEVENT
BEGIN:VEVENT
DTSTART;TZID=Europe/Berlin:20260621T100000
DTEND;TZID=Europe/Berlin:20260621T200000
DTSTAMP:20260421T155549
CREATED:20260217T091111Z
LAST-MODIFIED:20260217T091111Z
UID:5252-1782036000-1782072000@www.myairplane.de
SUMMARY:Kundenbuchung
DESCRIPTION:Philip
URL:https://www.myairplane.de/event/kundenbuchung-500/
CATEGORIES:Cirrus SR22 D-EMYA
END:VEVENT
END:VCALENDAR