BEGIN:VCALENDAR
VERSION:2.0
PRODID:-//myAirplane - ECPv6.15.20//NONSGML v1.0//EN
CALSCALE:GREGORIAN
METHOD:PUBLISH
X-ORIGINAL-URL:https://www.myairplane.de
X-WR-CALDESC:Veranstaltungen für myAirplane
REFRESH-INTERVAL;VALUE=DURATION:PT1H
X-Robots-Tag:noindex
X-PUBLISHED-TTL:PT1H
BEGIN:VTIMEZONE
TZID:Europe/Berlin
BEGIN:DAYLIGHT
TZOFFSETFROM:+0100
TZOFFSETTO:+0200
TZNAME:CEST
DTSTART:20250330T010000
END:DAYLIGHT
BEGIN:STANDARD
TZOFFSETFROM:+0200
TZOFFSETTO:+0100
TZNAME:CET
DTSTART:20251026T010000
END:STANDARD
BEGIN:DAYLIGHT
TZOFFSETFROM:+0100
TZOFFSETTO:+0200
TZNAME:CEST
DTSTART:20260329T010000
END:DAYLIGHT
BEGIN:STANDARD
TZOFFSETFROM:+0200
TZOFFSETTO:+0100
TZNAME:CET
DTSTART:20261025T010000
END:STANDARD
BEGIN:DAYLIGHT
TZOFFSETFROM:+0100
TZOFFSETTO:+0200
TZNAME:CEST
DTSTART:20270328T010000
END:DAYLIGHT
BEGIN:STANDARD
TZOFFSETFROM:+0200
TZOFFSETTO:+0100
TZNAME:CET
DTSTART:20271031T010000
END:STANDARD
END:VTIMEZONE
BEGIN:VEVENT
DTSTART;TZID=Europe/Berlin:20260501T080000
DTEND;TZID=Europe/Berlin:20260503T200000
DTSTAMP:20260421T145003
CREATED:20260113T110249Z
LAST-MODIFIED:20260113T110249Z
UID:5160-1777622400-1777838400@www.myairplane.de
SUMMARY:Kundenbuchung
DESCRIPTION:Constantin
URL:https://www.myairplane.de/event/kundenbuchung-482/
CATEGORIES:Cirrus SR22 D-EMYA
END:VEVENT
BEGIN:VEVENT
DTSTART;TZID=Europe/Berlin:20260508T090000
DTEND;TZID=Europe/Berlin:20260510T170000
DTSTAMP:20260421T145003
CREATED:20260122T152909Z
LAST-MODIFIED:20260122T152909Z
UID:5194-1778230800-1778432400@www.myairplane.de
SUMMARY:Kundenbuchung
DESCRIPTION:Wolfram
URL:https://www.myairplane.de/event/kundenbuchung-490/
CATEGORIES:Cirrus SR22 D-EMYA
END:VEVENT
BEGIN:VEVENT
DTSTART;TZID=Europe/Berlin:20260514T090000
DTEND;TZID=Europe/Berlin:20260517T200000
DTSTAMP:20260421T145003
CREATED:20251028T172138Z
LAST-MODIFIED:20251028T172138Z
UID:5118-1778749200-1779048000@www.myairplane.de
SUMMARY:Kundenbuchung
DESCRIPTION:Tomasz
URL:https://www.myairplane.de/event/kundenbuchung-474/
CATEGORIES:Cirrus SR22 D-EMYA
END:VEVENT
BEGIN:VEVENT
DTSTART;TZID=Europe/Berlin:20260522T150000
DTEND;TZID=Europe/Berlin:20260525T200000
DTSTAMP:20260421T145003
CREATED:20260405T160608Z
LAST-MODIFIED:20260405T160608Z
UID:5313-1779462000-1779739200@www.myairplane.de
SUMMARY:Kundenbuchung
DESCRIPTION:Linus
URL:https://www.myairplane.de/event/kundenbuchung-510/
CATEGORIES:Cirrus SR22 D-EMYA
END:VEVENT
BEGIN:VEVENT
DTSTART;TZID=Europe/Berlin:20260528T080000
DTEND;TZID=Europe/Berlin:20260531T200000
DTSTAMP:20260421T145003
CREATED:20260113T110959Z
LAST-MODIFIED:20260113T110959Z
UID:5171-1779955200-1780257600@www.myairplane.de
SUMMARY:Kundenbuchung
DESCRIPTION:Constantin
URL:https://www.myairplane.de/event/kundenbuchung-485/
CATEGORIES:Cirrus SR22 D-EMYA
END:VEVENT
END:VCALENDAR