BEGIN:VCALENDAR
VERSION:2.0
PRODID:-//myAirplane - ECPv6.15.20//NONSGML v1.0//EN
CALSCALE:GREGORIAN
METHOD:PUBLISH
X-ORIGINAL-URL:https://www.myairplane.de
X-WR-CALDESC:Veranstaltungen für myAirplane
REFRESH-INTERVAL;VALUE=DURATION:PT1H
X-Robots-Tag:noindex
X-PUBLISHED-TTL:PT1H
BEGIN:VTIMEZONE
TZID:Europe/Berlin
BEGIN:DAYLIGHT
TZOFFSETFROM:+0100
TZOFFSETTO:+0200
TZNAME:CEST
DTSTART:20230326T010000
END:DAYLIGHT
BEGIN:STANDARD
TZOFFSETFROM:+0200
TZOFFSETTO:+0100
TZNAME:CET
DTSTART:20231029T010000
END:STANDARD
BEGIN:DAYLIGHT
TZOFFSETFROM:+0100
TZOFFSETTO:+0200
TZNAME:CEST
DTSTART:20240331T010000
END:DAYLIGHT
BEGIN:STANDARD
TZOFFSETFROM:+0200
TZOFFSETTO:+0100
TZNAME:CET
DTSTART:20241027T010000
END:STANDARD
BEGIN:DAYLIGHT
TZOFFSETFROM:+0100
TZOFFSETTO:+0200
TZNAME:CEST
DTSTART:20250330T010000
END:DAYLIGHT
BEGIN:STANDARD
TZOFFSETFROM:+0200
TZOFFSETTO:+0100
TZNAME:CET
DTSTART:20251026T010000
END:STANDARD
BEGIN:DAYLIGHT
TZOFFSETFROM:+0100
TZOFFSETTO:+0200
TZNAME:CEST
DTSTART:20260329T010000
END:DAYLIGHT
BEGIN:STANDARD
TZOFFSETFROM:+0200
TZOFFSETTO:+0100
TZNAME:CET
DTSTART:20261025T010000
END:STANDARD
END:VTIMEZONE
BEGIN:VEVENT
DTSTART;TZID=Europe/Berlin:20241123T080000
DTEND;TZID=Europe/Berlin:20251231T200000
DTSTAMP:20260422T035952
CREATED:20241123T115405Z
LAST-MODIFIED:20250825T201707Z
UID:4770-1732348800-1767211200@www.myairplane.de
SUMMARY:Langzeitbuchung
DESCRIPTION:
URL:https://www.myairplane.de/event/langzeitbuchung/
CATEGORIES:Cessna 172 D-EVEL
END:VEVENT
BEGIN:VEVENT
DTSTART;TZID=Europe/Berlin:20250804T080000
DTEND;TZID=Europe/Berlin:20250804T200000
DTSTAMP:20260422T035952
CREATED:20250729T125823Z
LAST-MODIFIED:20250729T125823Z
UID:5039-1754294400-1754337600@www.myairplane.de
SUMMARY:Kundenbuchung
DESCRIPTION:Daniel
URL:https://www.myairplane.de/event/kundenbuchung-465/
CATEGORIES:Cirrus SR22 D-EMYA
END:VEVENT
BEGIN:VEVENT
DTSTART;TZID=Europe/Berlin:20250808T080000
DTEND;TZID=Europe/Berlin:20250809T200000
DTSTAMP:20260422T035952
CREATED:20250603T072008Z
LAST-MODIFIED:20250603T072008Z
UID:4958-1754640000-1754769600@www.myairplane.de
SUMMARY:Kundenbuchung
DESCRIPTION:Philip
URL:https://www.myairplane.de/event/kundenbuchung-459/
CATEGORIES:Cirrus SR22 D-EMYA
END:VEVENT
BEGIN:VEVENT
DTSTART;TZID=Europe/Berlin:20250810T090000
DTEND;TZID=Europe/Berlin:20250816T160000
DTSTAMP:20260422T035952
CREATED:20241018T223834Z
LAST-MODIFIED:20250813T210453Z
UID:4730-1754816400-1755360000@www.myairplane.de
SUMMARY:Kundenbuchung
DESCRIPTION:Tomasz
URL:https://www.myairplane.de/event/kundenbuchung-420/
CATEGORIES:Cirrus SR22 D-EMYA
END:VEVENT
BEGIN:VEVENT
DTSTART;TZID=Europe/Berlin:20250818T150000
DTEND;TZID=Europe/Berlin:20250818T200000
DTSTAMP:20260422T035952
CREATED:20250807T160823Z
LAST-MODIFIED:20250807T160823Z
UID:5044-1755529200-1755547200@www.myairplane.de
SUMMARY:Kundenbuchung - Training
DESCRIPTION:Mathias mit Constantin
URL:https://www.myairplane.de/event/kundenbuchung-training-156/
CATEGORIES:Cirrus SR22 D-EMYA
END:VEVENT
BEGIN:VEVENT
DTSTART;TZID=Europe/Berlin:20250829T120000
DTEND;TZID=Europe/Berlin:20250829T200000
DTSTAMP:20260422T035952
CREATED:20250825T200905Z
LAST-MODIFIED:20250829T083817Z
UID:5050-1756468800-1756497600@www.myairplane.de
SUMMARY:Kundenbuchung
DESCRIPTION:Paul
URL:https://www.myairplane.de/event/kundenbuchung-466/
CATEGORIES:Cirrus SR22 D-EMYA
END:VEVENT
BEGIN:VEVENT
DTSTART;TZID=Europe/Berlin:20250831T090000
DTEND;TZID=Europe/Berlin:20250831T140000
DTSTAMP:20260422T035952
CREATED:20250830T134028Z
LAST-MODIFIED:20250830T134028Z
UID:5060-1756630800-1756648800@www.myairplane.de
SUMMARY:Kundenbuchung
DESCRIPTION:Martin
URL:https://www.myairplane.de/event/kundenbuchung-448/
CATEGORIES:Cirrus SR22 D-EMYA
END:VEVENT
BEGIN:VEVENT
DTSTART;TZID=Europe/Berlin:20250831T150000
DTEND;TZID=Europe/Berlin:20250831T200000
DTSTAMP:20260422T035952
CREATED:20250825T202255Z
LAST-MODIFIED:20250825T202255Z
UID:5055-1756652400-1756670400@www.myairplane.de
SUMMARY:Kundenbuchung - Checkflug
DESCRIPTION:Ulf mit Constantin
URL:https://www.myairplane.de/event/kundenbuchung-checkflug-44/
CATEGORIES:Cirrus SR22 D-EMYA
END:VEVENT
END:VCALENDAR