BEGIN:VCALENDAR
VERSION:2.0
PRODID:-//myAirplane - ECPv6.15.20//NONSGML v1.0//EN
CALSCALE:GREGORIAN
METHOD:PUBLISH
X-WR-CALNAME:myAirplane
X-ORIGINAL-URL:https://www.myairplane.de
X-WR-CALDESC:Veranstaltungen für myAirplane
REFRESH-INTERVAL;VALUE=DURATION:PT1H
X-Robots-Tag:noindex
X-PUBLISHED-TTL:PT1H
BEGIN:VTIMEZONE
TZID:Europe/Berlin
BEGIN:DAYLIGHT
TZOFFSETFROM:+0100
TZOFFSETTO:+0200
TZNAME:CEST
DTSTART:20230326T010000
END:DAYLIGHT
BEGIN:STANDARD
TZOFFSETFROM:+0200
TZOFFSETTO:+0100
TZNAME:CET
DTSTART:20231029T010000
END:STANDARD
BEGIN:DAYLIGHT
TZOFFSETFROM:+0100
TZOFFSETTO:+0200
TZNAME:CEST
DTSTART:20240331T010000
END:DAYLIGHT
BEGIN:STANDARD
TZOFFSETFROM:+0200
TZOFFSETTO:+0100
TZNAME:CET
DTSTART:20241027T010000
END:STANDARD
BEGIN:DAYLIGHT
TZOFFSETFROM:+0100
TZOFFSETTO:+0200
TZNAME:CEST
DTSTART:20250330T010000
END:DAYLIGHT
BEGIN:STANDARD
TZOFFSETFROM:+0200
TZOFFSETTO:+0100
TZNAME:CET
DTSTART:20251026T010000
END:STANDARD
BEGIN:DAYLIGHT
TZOFFSETFROM:+0100
TZOFFSETTO:+0200
TZNAME:CEST
DTSTART:20260329T010000
END:DAYLIGHT
BEGIN:STANDARD
TZOFFSETFROM:+0200
TZOFFSETTO:+0100
TZNAME:CET
DTSTART:20261025T010000
END:STANDARD
END:VTIMEZONE
BEGIN:VEVENT
DTSTART;TZID=Europe/Berlin:20241123T080000
DTEND;TZID=Europe/Berlin:20251231T200000
DTSTAMP:20260422T124308
CREATED:20241123T115405Z
LAST-MODIFIED:20250825T201707Z
UID:4770-1732348800-1767211200@www.myairplane.de
SUMMARY:Langzeitbuchung
DESCRIPTION:
URL:https://www.myairplane.de/event/langzeitbuchung/
CATEGORIES:Cessna 172 D-EVEL
END:VEVENT
BEGIN:VEVENT
DTSTART;TZID=Europe/Berlin:20250501T090000
DTEND;TZID=Europe/Berlin:20250501T140000
DTSTAMP:20260422T124308
CREATED:20250422T063923Z
LAST-MODIFIED:20250422T063923Z
UID:4906-1746090000-1746108000@www.myairplane.de
SUMMARY:Kundenbuchung - Training
DESCRIPTION:Mathias mit Martin
URL:https://www.myairplane.de/event/kundenbuchung-training-149/
CATEGORIES:Cirrus SR22 D-EMYA
END:VEVENT
BEGIN:VEVENT
DTSTART;TZID=Europe/Berlin:20250502T090000
DTEND;TZID=Europe/Berlin:20250502T180000
DTSTAMP:20260422T124308
CREATED:20250422T064928Z
LAST-MODIFIED:20250422T064928Z
UID:4912-1746176400-1746208800@www.myairplane.de
SUMMARY:Kundenbuchung
DESCRIPTION:Dirk
URL:https://www.myairplane.de/event/kundenbuchung-452/
CATEGORIES:Cirrus SR22 D-EMYA
END:VEVENT
BEGIN:VEVENT
DTSTART;TZID=Europe/Berlin:20250507T080000
DTEND;TZID=Europe/Berlin:20250508T120000
DTSTAMP:20260422T124308
CREATED:20250507T073144Z
LAST-MODIFIED:20250507T073144Z
UID:4926-1746604800-1746705600@www.myairplane.de
SUMMARY:Kundenbuchung
DESCRIPTION:Daniel
URL:https://www.myairplane.de/event/kundenbuchung-454/
CATEGORIES:Cirrus SR22 D-EMYA
END:VEVENT
BEGIN:VEVENT
DTSTART;TZID=Europe/Berlin:20250509T140000
DTEND;TZID=Europe/Berlin:20250509T200000
DTSTAMP:20260422T124308
CREATED:20250429T155916Z
LAST-MODIFIED:20250429T155916Z
UID:4919-1746799200-1746820800@www.myairplane.de
SUMMARY:Kundenbuchung - Training
DESCRIPTION:Mathias mit Heiko
URL:https://www.myairplane.de/event/kundenbuchung-training-150/
CATEGORIES:Cirrus SR22 D-EMYA
END:VEVENT
BEGIN:VEVENT
DTSTART;TZID=Europe/Berlin:20250517T140000
DTEND;TZID=Europe/Berlin:20250517T190000
DTSTAMP:20260422T124308
CREATED:20250514T224945Z
LAST-MODIFIED:20250514T225058Z
UID:4943-1747490400-1747508400@www.myairplane.de
SUMMARY:Kundenbuchung
DESCRIPTION:Dirk
URL:https://www.myairplane.de/event/kundenbuchung-457/
CATEGORIES:Cirrus SR22 D-EMYA
END:VEVENT
BEGIN:VEVENT
DTSTART;TZID=Europe/Berlin:20250518T100000
DTEND;TZID=Europe/Berlin:20250518T190000
DTSTAMP:20260422T124308
CREATED:20250509T112832Z
LAST-MODIFIED:20250509T112832Z
UID:4939-1747562400-1747594800@www.myairplane.de
SUMMARY:Kundenbuchung
DESCRIPTION:Wolfram
URL:https://www.myairplane.de/event/kundenbuchung-456/
CATEGORIES:Cirrus SR22 D-EMYA
END:VEVENT
BEGIN:VEVENT
DTSTART;TZID=Europe/Berlin:20250529T080000
DTEND;TZID=Europe/Berlin:20250531T190000
DTSTAMP:20260422T124308
CREATED:20250202T223903Z
LAST-MODIFIED:20250523T073913Z
UID:4813-1748505600-1748718000@www.myairplane.de
SUMMARY:Kundenbuchung
DESCRIPTION:Tomasz
URL:https://www.myairplane.de/event/kundenbuchung-436/
CATEGORIES:Cirrus SR22 D-EMYA
END:VEVENT
END:VCALENDAR