BEGIN:VCALENDAR
VERSION:2.0
PRODID:-//myAirplane - ECPv6.15.20//NONSGML v1.0//EN
CALSCALE:GREGORIAN
METHOD:PUBLISH
X-WR-CALNAME:myAirplane
X-ORIGINAL-URL:https://www.myairplane.de
X-WR-CALDESC:Veranstaltungen für myAirplane
REFRESH-INTERVAL;VALUE=DURATION:PT1H
X-Robots-Tag:noindex
X-PUBLISHED-TTL:PT1H
BEGIN:VTIMEZONE
TZID:Europe/Berlin
BEGIN:DAYLIGHT
TZOFFSETFROM:+0100
TZOFFSETTO:+0200
TZNAME:CEST
DTSTART:20230326T010000
END:DAYLIGHT
BEGIN:STANDARD
TZOFFSETFROM:+0200
TZOFFSETTO:+0100
TZNAME:CET
DTSTART:20231029T010000
END:STANDARD
BEGIN:DAYLIGHT
TZOFFSETFROM:+0100
TZOFFSETTO:+0200
TZNAME:CEST
DTSTART:20240331T010000
END:DAYLIGHT
BEGIN:STANDARD
TZOFFSETFROM:+0200
TZOFFSETTO:+0100
TZNAME:CET
DTSTART:20241027T010000
END:STANDARD
BEGIN:DAYLIGHT
TZOFFSETFROM:+0100
TZOFFSETTO:+0200
TZNAME:CEST
DTSTART:20250330T010000
END:DAYLIGHT
BEGIN:STANDARD
TZOFFSETFROM:+0200
TZOFFSETTO:+0100
TZNAME:CET
DTSTART:20251026T010000
END:STANDARD
BEGIN:DAYLIGHT
TZOFFSETFROM:+0100
TZOFFSETTO:+0200
TZNAME:CEST
DTSTART:20260329T010000
END:DAYLIGHT
BEGIN:STANDARD
TZOFFSETFROM:+0200
TZOFFSETTO:+0100
TZNAME:CET
DTSTART:20261025T010000
END:STANDARD
END:VTIMEZONE
BEGIN:VEVENT
DTSTART;TZID=Europe/Berlin:20241123T080000
DTEND;TZID=Europe/Berlin:20251231T200000
DTSTAMP:20260422T141253
CREATED:20241123T115405Z
LAST-MODIFIED:20250825T201707Z
UID:4770-1732348800-1767211200@www.myairplane.de
SUMMARY:Langzeitbuchung
DESCRIPTION:
URL:https://www.myairplane.de/event/langzeitbuchung/
CATEGORIES:Cessna 172 D-EVEL
END:VEVENT
BEGIN:VEVENT
DTSTART;TZID=Europe/Berlin:20250324T080000
DTEND;TZID=Europe/Berlin:20250402T160000
DTSTAMP:20260422T141253
CREATED:20250307T073943Z
LAST-MODIFIED:20250331T130639Z
UID:4850-1742803200-1743609600@www.myairplane.de
SUMMARY:Werft
DESCRIPTION:
URL:https://www.myairplane.de/event/werft-12/
CATEGORIES:Cirrus SR22 D-EMYA
END:VEVENT
BEGIN:VEVENT
DTSTART;TZID=Europe/Berlin:20250403T080000
DTEND;TZID=Europe/Berlin:20250403T190000
DTSTAMP:20260422T141253
CREATED:20250306T224920Z
LAST-MODIFIED:20250403T195340Z
UID:4844-1743667200-1743706800@www.myairplane.de
SUMMARY:Kundenbuchung
DESCRIPTION:Daniel und Dirk
URL:https://www.myairplane.de/event/kundenbuchung-441/
CATEGORIES:Cirrus SR22 D-EMYA
END:VEVENT
BEGIN:VEVENT
DTSTART;TZID=Europe/Berlin:20250406T170000
DTEND;TZID=Europe/Berlin:20250406T200000
DTSTAMP:20260422T141253
CREATED:20250406T124445Z
LAST-MODIFIED:20250406T124445Z
UID:4885-1743958800-1743969600@www.myairplane.de
SUMMARY:Kundenbuchung
DESCRIPTION:Paul
URL:https://www.myairplane.de/event/kundenbuchung-447/
CATEGORIES:Cirrus SR22 D-EMYA
END:VEVENT
BEGIN:VEVENT
DTSTART;TZID=Europe/Berlin:20250410T080000
DTEND;TZID=Europe/Berlin:20250410T200000
DTSTAMP:20260422T141253
CREATED:20250306T231403Z
LAST-MODIFIED:20250306T231403Z
UID:4847-1744272000-1744315200@www.myairplane.de
SUMMARY:Kundenbuchung
DESCRIPTION:Ulf und Sebastian
URL:https://www.myairplane.de/event/kundenbuchung-442/
CATEGORIES:Cirrus SR22 D-EMYA
END:VEVENT
BEGIN:VEVENT
DTSTART;TZID=Europe/Berlin:20250412T080000
DTEND;TZID=Europe/Berlin:20250413T200000
DTSTAMP:20260422T141253
CREATED:20250331T125505Z
LAST-MODIFIED:20250408T075726Z
UID:4877-1744444800-1744574400@www.myairplane.de
SUMMARY:Kundenbuchung
DESCRIPTION:Philip
URL:https://www.myairplane.de/event/kundenbuchung-446/
CATEGORIES:Cirrus SR22 D-EMYA
END:VEVENT
BEGIN:VEVENT
DTSTART;TZID=Europe/Berlin:20250414T083000
DTEND;TZID=Europe/Berlin:20250414T120000
DTSTAMP:20260422T141253
CREATED:20250310T154730Z
LAST-MODIFIED:20250403T075208Z
UID:4863-1744619400-1744632000@www.myairplane.de
SUMMARY:Kundenbuchung
DESCRIPTION:Mathias mit Martin
URL:https://www.myairplane.de/event/kundenbuchung-445/
CATEGORIES:Cirrus SR22 D-EMYA
END:VEVENT
BEGIN:VEVENT
DTSTART;TZID=Europe/Berlin:20250425T090000
DTEND;TZID=Europe/Berlin:20250425T140000
DTSTAMP:20260422T141253
CREATED:20250414T232554Z
LAST-MODIFIED:20250414T232554Z
UID:4892-1745571600-1745589600@www.myairplane.de
SUMMARY:Kundenbuchung - Training
DESCRIPTION:Mathias mit Heiko
URL:https://www.myairplane.de/event/kundenbuchung-training-148/
CATEGORIES:Cirrus SR22 D-EMYA
END:VEVENT
BEGIN:VEVENT
DTSTART;TZID=Europe/Berlin:20250427T100000
DTEND;TZID=Europe/Berlin:20250427T200000
DTSTAMP:20260422T141253
CREATED:20250422T144109Z
LAST-MODIFIED:20250422T144109Z
UID:4915-1745748000-1745784000@www.myairplane.de
SUMMARY:Kundenbuchung
DESCRIPTION:Philip
URL:https://www.myairplane.de/event/kundenbuchung-453/
CATEGORIES:Cirrus SR22 D-EMYA
END:VEVENT
END:VCALENDAR