BEGIN:VCALENDAR
VERSION:2.0
PRODID:-//myAirplane - ECPv6.15.20//NONSGML v1.0//EN
CALSCALE:GREGORIAN
METHOD:PUBLISH
X-ORIGINAL-URL:https://www.myairplane.de
X-WR-CALDESC:Veranstaltungen für myAirplane
REFRESH-INTERVAL;VALUE=DURATION:PT1H
X-Robots-Tag:noindex
X-PUBLISHED-TTL:PT1H
BEGIN:VTIMEZONE
TZID:Europe/Berlin
BEGIN:DAYLIGHT
TZOFFSETFROM:+0100
TZOFFSETTO:+0200
TZNAME:CEST
DTSTART:20230326T010000
END:DAYLIGHT
BEGIN:STANDARD
TZOFFSETFROM:+0200
TZOFFSETTO:+0100
TZNAME:CET
DTSTART:20231029T010000
END:STANDARD
BEGIN:DAYLIGHT
TZOFFSETFROM:+0100
TZOFFSETTO:+0200
TZNAME:CEST
DTSTART:20240331T010000
END:DAYLIGHT
BEGIN:STANDARD
TZOFFSETFROM:+0200
TZOFFSETTO:+0100
TZNAME:CET
DTSTART:20241027T010000
END:STANDARD
BEGIN:DAYLIGHT
TZOFFSETFROM:+0100
TZOFFSETTO:+0200
TZNAME:CEST
DTSTART:20250330T010000
END:DAYLIGHT
BEGIN:STANDARD
TZOFFSETFROM:+0200
TZOFFSETTO:+0100
TZNAME:CET
DTSTART:20251026T010000
END:STANDARD
BEGIN:DAYLIGHT
TZOFFSETFROM:+0100
TZOFFSETTO:+0200
TZNAME:CEST
DTSTART:20260329T010000
END:DAYLIGHT
BEGIN:STANDARD
TZOFFSETFROM:+0200
TZOFFSETTO:+0100
TZNAME:CET
DTSTART:20261025T010000
END:STANDARD
END:VTIMEZONE
BEGIN:VEVENT
DTSTART;TZID=Europe/Berlin:20241123T080000
DTEND;TZID=Europe/Berlin:20251231T200000
DTSTAMP:20260422T170109
CREATED:20241123T115405Z
LAST-MODIFIED:20250825T201707Z
UID:4770-1732348800-1767211200@www.myairplane.de
SUMMARY:Langzeitbuchung
DESCRIPTION:
URL:https://www.myairplane.de/event/langzeitbuchung/
CATEGORIES:Cessna 172 D-EVEL
END:VEVENT
BEGIN:VEVENT
DTSTART;TZID=Europe/Berlin:20250301T090000
DTEND;TZID=Europe/Berlin:20250301T130000
DTSTAMP:20260422T170109
CREATED:20250226T173553Z
LAST-MODIFIED:20250226T173553Z
UID:4825-1740819600-1740834000@www.myairplane.de
SUMMARY:Kundenbuchung - Training
DESCRIPTION:Mathias mit Dirk
URL:https://www.myairplane.de/event/kundenbuchung-training-144/
CATEGORIES:Cirrus SR22 D-EMYA
END:VEVENT
BEGIN:VEVENT
DTSTART;TZID=Europe/Berlin:20250307T140000
DTEND;TZID=Europe/Berlin:20250307T190000
DTSTAMP:20260422T170109
CREATED:20250301T164039Z
LAST-MODIFIED:20250301T164039Z
UID:4831-1741356000-1741374000@www.myairplane.de
SUMMARY:Kundenbuchung - Training
DESCRIPTION:Mathias mit Dirk
URL:https://www.myairplane.de/event/kundenbuchung-training-145/
CATEGORIES:Cirrus SR22 D-EMYA
END:VEVENT
BEGIN:VEVENT
DTSTART;TZID=Europe/Berlin:20250308T090000
DTEND;TZID=Europe/Berlin:20250308T170000
DTSTAMP:20260422T170109
CREATED:20250303T194251Z
LAST-MODIFIED:20250303T194251Z
UID:4834-1741424400-1741453200@www.myairplane.de
SUMMARY:Kundenbuchung
DESCRIPTION:Wolfram
URL:https://www.myairplane.de/event/kundenbuchung-439/
CATEGORIES:Cirrus SR22 D-EMYA
END:VEVENT
BEGIN:VEVENT
DTSTART;TZID=Europe/Berlin:20250309T170000
DTEND;TZID=Europe/Berlin:20250309T200000
DTSTAMP:20260422T170109
CREATED:20250309T111407Z
LAST-MODIFIED:20250309T111407Z
UID:4857-1741539600-1741550400@www.myairplane.de
SUMMARY:Kundenbuchung
DESCRIPTION:Paul
URL:https://www.myairplane.de/event/kundenbuchung-443/
CATEGORIES:Cirrus SR22 D-EMYA
END:VEVENT
BEGIN:VEVENT
DTSTART;TZID=Europe/Berlin:20250311T150000
DTEND;TZID=Europe/Berlin:20250311T190000
DTSTAMP:20260422T170109
CREATED:20250309T065753Z
LAST-MODIFIED:20250309T065753Z
UID:4854-1741705200-1741719600@www.myairplane.de
SUMMARY:Kundenbuchung - Training
DESCRIPTION:Mathias mit Dirk
URL:https://www.myairplane.de/event/kundenbuchung-training-146/
CATEGORIES:Cirrus SR22 D-EMYA
END:VEVENT
BEGIN:VEVENT
DTSTART;TZID=Europe/Berlin:20250314T130000
DTEND;TZID=Europe/Berlin:20250314T180000
DTSTAMP:20260422T170109
CREATED:20250314T074039Z
LAST-MODIFIED:20250314T074039Z
UID:4867-1741957200-1741975200@www.myairplane.de
SUMMARY:Kundenbuchung - Training
DESCRIPTION:Mathias mit Dirk
URL:https://www.myairplane.de/event/kundenbuchung-training-147/
CATEGORIES:Cirrus SR22 D-EMYA
END:VEVENT
BEGIN:VEVENT
DTSTART;TZID=Europe/Berlin:20250318T090000
DTEND;TZID=Europe/Berlin:20250318T120000
DTSTAMP:20260422T170109
CREATED:20250305T123832Z
LAST-MODIFIED:20250312T233348Z
UID:4837-1742288400-1742299200@www.myairplane.de
SUMMARY:Kundenbuchung - Checkflug
DESCRIPTION:Ulf mit Dirk
URL:https://www.myairplane.de/event/kundenbuchung-checkflug-41/
CATEGORIES:Cirrus SR22 D-EMYA
END:VEVENT
BEGIN:VEVENT
DTSTART;TZID=Europe/Berlin:20250320T080000
DTEND;TZID=Europe/Berlin:20250320T200000
DTSTAMP:20260422T170109
CREATED:20250228T163027Z
LAST-MODIFIED:20250228T163027Z
UID:4828-1742457600-1742500800@www.myairplane.de
SUMMARY:Kundenbuchung
DESCRIPTION:Daniel
URL:https://www.myairplane.de/event/kundenbuchung-438/
CATEGORIES:Cirrus SR22 D-EMYA
END:VEVENT
BEGIN:VEVENT
DTSTART;TZID=Europe/Berlin:20250321T130000
DTEND;TZID=Europe/Berlin:20250321T200000
DTSTAMP:20260422T170109
CREATED:20250305T165949Z
LAST-MODIFIED:20250305T165949Z
UID:4840-1742562000-1742587200@www.myairplane.de
SUMMARY:Kundenbuchung
DESCRIPTION:Ulf
URL:https://www.myairplane.de/event/kundenbuchung-440/
CATEGORIES:Cirrus SR22 D-EMYA
END:VEVENT
BEGIN:VEVENT
DTSTART;TZID=Europe/Berlin:20250324T080000
DTEND;TZID=Europe/Berlin:20250402T160000
DTSTAMP:20260422T170109
CREATED:20250307T073943Z
LAST-MODIFIED:20250331T130639Z
UID:4850-1742803200-1743609600@www.myairplane.de
SUMMARY:Werft
DESCRIPTION:
URL:https://www.myairplane.de/event/werft-12/
CATEGORIES:Cirrus SR22 D-EMYA
END:VEVENT
END:VCALENDAR