BEGIN:VCALENDAR
VERSION:2.0
PRODID:-//myAirplane - ECPv6.15.20//NONSGML v1.0//EN
CALSCALE:GREGORIAN
METHOD:PUBLISH
X-ORIGINAL-URL:https://www.myairplane.de
X-WR-CALDESC:Veranstaltungen für myAirplane
REFRESH-INTERVAL;VALUE=DURATION:PT1H
X-Robots-Tag:noindex
X-PUBLISHED-TTL:PT1H
BEGIN:VTIMEZONE
TZID:Europe/Berlin
BEGIN:DAYLIGHT
TZOFFSETFROM:+0100
TZOFFSETTO:+0200
TZNAME:CEST
DTSTART:20230326T010000
END:DAYLIGHT
BEGIN:STANDARD
TZOFFSETFROM:+0200
TZOFFSETTO:+0100
TZNAME:CET
DTSTART:20231029T010000
END:STANDARD
BEGIN:DAYLIGHT
TZOFFSETFROM:+0100
TZOFFSETTO:+0200
TZNAME:CEST
DTSTART:20240331T010000
END:DAYLIGHT
BEGIN:STANDARD
TZOFFSETFROM:+0200
TZOFFSETTO:+0100
TZNAME:CET
DTSTART:20241027T010000
END:STANDARD
BEGIN:DAYLIGHT
TZOFFSETFROM:+0100
TZOFFSETTO:+0200
TZNAME:CEST
DTSTART:20250330T010000
END:DAYLIGHT
BEGIN:STANDARD
TZOFFSETFROM:+0200
TZOFFSETTO:+0100
TZNAME:CET
DTSTART:20251026T010000
END:STANDARD
BEGIN:DAYLIGHT
TZOFFSETFROM:+0100
TZOFFSETTO:+0200
TZNAME:CEST
DTSTART:20260329T010000
END:DAYLIGHT
BEGIN:STANDARD
TZOFFSETFROM:+0200
TZOFFSETTO:+0100
TZNAME:CET
DTSTART:20261025T010000
END:STANDARD
END:VTIMEZONE
BEGIN:VEVENT
DTSTART;TZID=Europe/Berlin:20241123T080000
DTEND;TZID=Europe/Berlin:20251231T200000
DTSTAMP:20260422T180747
CREATED:20241123T115405Z
LAST-MODIFIED:20250825T201707Z
UID:4770-1732348800-1767211200@www.myairplane.de
SUMMARY:Langzeitbuchung
DESCRIPTION:
URL:https://www.myairplane.de/event/langzeitbuchung/
CATEGORIES:Cessna 172 D-EVEL
END:VEVENT
BEGIN:VEVENT
DTSTART;TZID=Europe/Berlin:20250201T140000
DTEND;TZID=Europe/Berlin:20250201T170000
DTSTAMP:20260422T180747
CREATED:20250202T224147Z
LAST-MODIFIED:20250202T224147Z
UID:4816-1738418400-1738429200@www.myairplane.de
SUMMARY:Kundenbuchung
DESCRIPTION:Alexander
URL:https://www.myairplane.de/event/kundenbuchung-437/
CATEGORIES:Cirrus SR22 D-EMYA
END:VEVENT
BEGIN:VEVENT
DTSTART;TZID=Europe/Berlin:20250202T140000
DTEND;TZID=Europe/Berlin:20250202T170000
DTSTAMP:20260422T180747
CREATED:20250202T223730Z
LAST-MODIFIED:20250202T223730Z
UID:4810-1738504800-1738515600@www.myairplane.de
SUMMARY:Kundenbuchung
DESCRIPTION:Paul
URL:https://www.myairplane.de/event/kundenbuchung-435/
CATEGORIES:Cirrus SR22 D-EMYA
END:VEVENT
BEGIN:VEVENT
DTSTART;TZID=Europe/Berlin:20250203T100000
DTEND;TZID=Europe/Berlin:20250203T140000
DTSTAMP:20260422T180747
CREATED:20250120T153215Z
LAST-MODIFIED:20250120T153215Z
UID:4794-1738576800-1738591200@www.myairplane.de
SUMMARY:Kundenbuchung
DESCRIPTION:Alexander
URL:https://www.myairplane.de/event/kundenbuchung-431/
CATEGORIES:Cirrus SR22 D-EMYA
END:VEVENT
BEGIN:VEVENT
DTSTART;TZID=Europe/Berlin:20250204T170000
DTEND;TZID=Europe/Berlin:20250204T200000
DTSTAMP:20260422T180747
CREATED:20250202T223531Z
LAST-MODIFIED:20250202T223531Z
UID:4807-1738688400-1738699200@www.myairplane.de
SUMMARY:Kundenbuchung
DESCRIPTION:Paul
URL:https://www.myairplane.de/event/kundenbuchung-434/
CATEGORIES:Cirrus SR22 D-EMYA
END:VEVENT
BEGIN:VEVENT
DTSTART;TZID=Europe/Berlin:20250210T090000
DTEND;TZID=Europe/Berlin:20250210T140000
DTSTAMP:20260422T180747
CREATED:20250128T174458Z
LAST-MODIFIED:20250128T174458Z
UID:4801-1739178000-1739196000@www.myairplane.de
SUMMARY:Kundenbuchung
DESCRIPTION:Mathias mit Christian
URL:https://www.myairplane.de/event/kundenbuchung-433/
CATEGORIES:Cirrus SR22 D-EMYA
END:VEVENT
BEGIN:VEVENT
DTSTART;TZID=Europe/Berlin:20250222T090000
DTEND;TZID=Europe/Berlin:20250222T160000
DTSTAMP:20260422T180747
CREATED:20250117T084419Z
LAST-MODIFIED:20250117T084419Z
UID:4791-1740214800-1740240000@www.myairplane.de
SUMMARY:Kundenbuchung
DESCRIPTION:Tomasz
URL:https://www.myairplane.de/event/kundenbuchung-430/
CATEGORIES:Cirrus SR22 D-EMYA
END:VEVENT
END:VCALENDAR