BEGIN:VCALENDAR
VERSION:2.0
PRODID:-//myAirplane - ECPv6.15.20//NONSGML v1.0//EN
CALSCALE:GREGORIAN
METHOD:PUBLISH
X-WR-CALNAME:myAirplane
X-ORIGINAL-URL:https://www.myairplane.de
X-WR-CALDESC:Veranstaltungen für myAirplane
REFRESH-INTERVAL;VALUE=DURATION:PT1H
X-Robots-Tag:noindex
X-PUBLISHED-TTL:PT1H
BEGIN:VTIMEZONE
TZID:Europe/Berlin
BEGIN:DAYLIGHT
TZOFFSETFROM:+0100
TZOFFSETTO:+0200
TZNAME:CEST
DTSTART:20230326T010000
END:DAYLIGHT
BEGIN:STANDARD
TZOFFSETFROM:+0200
TZOFFSETTO:+0100
TZNAME:CET
DTSTART:20231029T010000
END:STANDARD
BEGIN:DAYLIGHT
TZOFFSETFROM:+0100
TZOFFSETTO:+0200
TZNAME:CEST
DTSTART:20240331T010000
END:DAYLIGHT
BEGIN:STANDARD
TZOFFSETFROM:+0200
TZOFFSETTO:+0100
TZNAME:CET
DTSTART:20241027T010000
END:STANDARD
BEGIN:DAYLIGHT
TZOFFSETFROM:+0100
TZOFFSETTO:+0200
TZNAME:CEST
DTSTART:20250330T010000
END:DAYLIGHT
BEGIN:STANDARD
TZOFFSETFROM:+0200
TZOFFSETTO:+0100
TZNAME:CET
DTSTART:20251026T010000
END:STANDARD
END:VTIMEZONE
BEGIN:VEVENT
DTSTART;TZID=Europe/Berlin:20241002T150000
DTEND;TZID=Europe/Berlin:20241002T190000
DTSTAMP:20260423T010824
CREATED:20240903T173226Z
LAST-MODIFIED:20240924T154458Z
UID:4672-1727881200-1727895600@www.myairplane.de
SUMMARY:Kundenbuchung - Checkflug
DESCRIPTION:Ulf mit David
URL:https://www.myairplane.de/event/kundenbuchung-checkflug-40/
CATEGORIES:Cirrus SR22 D-EMYA
END:VEVENT
BEGIN:VEVENT
DTSTART;TZID=Europe/Berlin:20241004T090000
DTEND;TZID=Europe/Berlin:20241004T190000
DTSTAMP:20260423T010824
CREATED:20240928T151204Z
LAST-MODIFIED:20240928T151204Z
UID:4709-1728032400-1728068400@www.myairplane.de
SUMMARY:Kundenbuchung
DESCRIPTION:Philip
URL:https://www.myairplane.de/event/kundenbuchung-413/
CATEGORIES:Cirrus SR22 D-EMYA
END:VEVENT
BEGIN:VEVENT
DTSTART;TZID=Europe/Berlin:20241015T090000
DTEND;TZID=Europe/Berlin:20241015T120000
DTSTAMP:20260423T010824
CREATED:20240928T152251Z
LAST-MODIFIED:20240928T152251Z
UID:4712-1728982800-1728993600@www.myairplane.de
SUMMARY:Kundenbuchung - Training
DESCRIPTION:Florian mit Mathias
URL:https://www.myairplane.de/event/kundenbuchung-training-140/
CATEGORIES:Cirrus SR22 D-EMYA
END:VEVENT
BEGIN:VEVENT
DTSTART;TZID=Europe/Berlin:20241016T090000
DTEND;TZID=Europe/Berlin:20241016T120000
DTSTAMP:20260423T010824
CREATED:20240928T152342Z
LAST-MODIFIED:20240928T152342Z
UID:4715-1729069200-1729080000@www.myairplane.de
SUMMARY:Kundenbuchung - Training
DESCRIPTION:Florian mit Mathias
URL:https://www.myairplane.de/event/kundenbuchung-training-141/
CATEGORIES:Cirrus SR22 D-EMYA
END:VEVENT
BEGIN:VEVENT
DTSTART;TZID=Europe/Berlin:20241020T100000
DTEND;TZID=Europe/Berlin:20241020T190000
DTSTAMP:20260423T010824
CREATED:20240930T102616Z
LAST-MODIFIED:20240930T102616Z
UID:4718-1729418400-1729450800@www.myairplane.de
SUMMARY:Kundenbuchung
DESCRIPTION:Frank und Götz
URL:https://www.myairplane.de/event/kundenbuchung-417/
CATEGORIES:Cirrus SR22 D-EMYA
END:VEVENT
BEGIN:VEVENT
DTSTART;TZID=Europe/Berlin:20241021T110000
DTEND;TZID=Europe/Berlin:20241021T140000
DTSTAMP:20260423T010824
CREATED:20241018T223723Z
LAST-MODIFIED:20241018T223723Z
UID:4727-1729508400-1729519200@www.myairplane.de
SUMMARY:Kundenbuchung
DESCRIPTION:Tomasz
URL:https://www.myairplane.de/event/kundenbuchung-419/
CATEGORIES:Cirrus SR22 D-EMYA
END:VEVENT
BEGIN:VEVENT
DTSTART;TZID=Europe/Berlin:20241024T140000
DTEND;TZID=Europe/Berlin:20241024T180000
DTSTAMP:20260423T010824
CREATED:20241024T103706Z
LAST-MODIFIED:20241024T103706Z
UID:4736-1729778400-1729792800@www.myairplane.de
SUMMARY:Kundenbuchung
DESCRIPTION:Florian
URL:https://www.myairplane.de/event/kundenbuchung-422/
CATEGORIES:Cessna 172 D-EVEL
END:VEVENT
BEGIN:VEVENT
DTSTART;TZID=Europe/Berlin:20241025T100000
DTEND;TZID=Europe/Berlin:20241025T120000
DTSTAMP:20260423T010824
CREATED:20241024T164723Z
LAST-MODIFIED:20241024T164723Z
UID:4739-1729850400-1729857600@www.myairplane.de
SUMMARY:Kundenbuchung - Training
DESCRIPTION:Steffen mit Selim
URL:https://www.myairplane.de/event/kundenbuchung-training-142/
CATEGORIES:Cessna 172 D-EVEL
END:VEVENT
BEGIN:VEVENT
DTSTART;TZID=Europe/Berlin:20241026T080000
DTEND;TZID=Europe/Berlin:20241026T200000
DTSTAMP:20260423T010824
CREATED:20241025T175949Z
LAST-MODIFIED:20241025T175949Z
UID:4742-1729929600-1729972800@www.myairplane.de
SUMMARY:Kundenbuchung
DESCRIPTION:Paul
URL:https://www.myairplane.de/event/kundenbuchung-423/
CATEGORIES:Cirrus SR22 D-EMYA
END:VEVENT
END:VCALENDAR