BEGIN:VCALENDAR
VERSION:2.0
PRODID:-//myAirplane - ECPv6.15.20//NONSGML v1.0//EN
CALSCALE:GREGORIAN
METHOD:PUBLISH
X-ORIGINAL-URL:https://www.myairplane.de
X-WR-CALDESC:Veranstaltungen für myAirplane
REFRESH-INTERVAL;VALUE=DURATION:PT1H
X-Robots-Tag:noindex
X-PUBLISHED-TTL:PT1H
BEGIN:VTIMEZONE
TZID:Europe/Berlin
BEGIN:DAYLIGHT
TZOFFSETFROM:+0100
TZOFFSETTO:+0200
TZNAME:CEST
DTSTART:20230326T010000
END:DAYLIGHT
BEGIN:STANDARD
TZOFFSETFROM:+0200
TZOFFSETTO:+0100
TZNAME:CET
DTSTART:20231029T010000
END:STANDARD
BEGIN:DAYLIGHT
TZOFFSETFROM:+0100
TZOFFSETTO:+0200
TZNAME:CEST
DTSTART:20240331T010000
END:DAYLIGHT
BEGIN:STANDARD
TZOFFSETFROM:+0200
TZOFFSETTO:+0100
TZNAME:CET
DTSTART:20241027T010000
END:STANDARD
BEGIN:DAYLIGHT
TZOFFSETFROM:+0100
TZOFFSETTO:+0200
TZNAME:CEST
DTSTART:20250330T010000
END:DAYLIGHT
BEGIN:STANDARD
TZOFFSETFROM:+0200
TZOFFSETTO:+0100
TZNAME:CET
DTSTART:20251026T010000
END:STANDARD
END:VTIMEZONE
BEGIN:VEVENT
DTSTART;TZID=Europe/Berlin:20240503T080000
DTEND;TZID=Europe/Berlin:20240505T200000
DTSTAMP:20260423T080022
CREATED:20240502T080111Z
LAST-MODIFIED:20240502T080111Z
UID:4371-1714723200-1714939200@www.myairplane.de
SUMMARY:Kundenbuchung
DESCRIPTION:Thomas
URL:https://www.myairplane.de/event/kundenbuchung-378/
CATEGORIES:Cirrus SR22 D-EMYA
END:VEVENT
BEGIN:VEVENT
DTSTART;TZID=Europe/Berlin:20240510T080000
DTEND;TZID=Europe/Berlin:20240512T200000
DTSTAMP:20260423T080022
CREATED:20240307T124245Z
LAST-MODIFIED:20240307T124245Z
UID:4259-1715328000-1715544000@www.myairplane.de
SUMMARY:Kundenbuchung
DESCRIPTION:Tomasz
URL:https://www.myairplane.de/event/kundenbuchung-360/
CATEGORIES:Cirrus SR22 D-EMYA
END:VEVENT
BEGIN:VEVENT
DTSTART;TZID=Europe/Berlin:20240510T120000
DTEND;TZID=Europe/Berlin:20240510T150000
DTSTAMP:20260423T080022
CREATED:20240508T101300Z
LAST-MODIFIED:20240508T101300Z
UID:4403-1715342400-1715353200@www.myairplane.de
SUMMARY:Kundenbuchung
DESCRIPTION:Sami
URL:https://www.myairplane.de/event/kundenbuchung-385/
CATEGORIES:Cessna 172 D-EVEL
END:VEVENT
BEGIN:VEVENT
DTSTART;TZID=Europe/Berlin:20240511T150000
DTEND;TZID=Europe/Berlin:20240511T200000
DTSTAMP:20260423T080022
CREATED:20240502T080337Z
LAST-MODIFIED:20240502T080337Z
UID:4374-1715439600-1715457600@www.myairplane.de
SUMMARY:Kundenbuchung
DESCRIPTION:Mathis
URL:https://www.myairplane.de/event/kundenbuchung-379/
CATEGORIES:Cessna 172 D-EVEL
END:VEVENT
BEGIN:VEVENT
DTSTART;TZID=Europe/Berlin:20240513T090000
DTEND;TZID=Europe/Berlin:20240516T190000
DTSTAMP:20260423T080022
CREATED:20240423T093916Z
LAST-MODIFIED:20240423T093916Z
UID:4364-1715590800-1715886000@www.myairplane.de
SUMMARY:Kundenbuchung
DESCRIPTION:Martin
URL:https://www.myairplane.de/event/kundenbuchung-376/
CATEGORIES:Cessna 172 D-EVEL
END:VEVENT
BEGIN:VEVENT
DTSTART;TZID=Europe/Berlin:20240518T100000
DTEND;TZID=Europe/Berlin:20240518T130000
DTSTAMP:20260423T080022
CREATED:20240410T060833Z
LAST-MODIFIED:20240410T060833Z
UID:4332-1716026400-1716037200@www.myairplane.de
SUMMARY:Kundenbuchung
DESCRIPTION:Ulf
URL:https://www.myairplane.de/event/kundenbuchung-371/
CATEGORIES:Cirrus SR22 D-EMYA
END:VEVENT
BEGIN:VEVENT
DTSTART;TZID=Europe/Berlin:20240519T090000
DTEND;TZID=Europe/Berlin:20240520T160000
DTSTAMP:20260423T080022
CREATED:20240131T115403Z
LAST-MODIFIED:20240131T115403Z
UID:4209-1716109200-1716220800@www.myairplane.de
SUMMARY:Kundenbuchung
DESCRIPTION:Wolfram
URL:https://www.myairplane.de/event/kundenbuchung-353/
CATEGORIES:Cirrus SR22 D-EMYA
END:VEVENT
BEGIN:VEVENT
DTSTART;TZID=Europe/Berlin:20240520T110000
DTEND;TZID=Europe/Berlin:20240520T170000
DTSTAMP:20260423T080022
CREATED:20240515T202204Z
LAST-MODIFIED:20240515T202204Z
UID:4420-1716202800-1716224400@www.myairplane.de
SUMMARY:Kundenbuchung
DESCRIPTION:Niklas
URL:https://www.myairplane.de/event/kundenbuchung-387/
CATEGORIES:Cessna 172 D-EVEL
END:VEVENT
BEGIN:VEVENT
DTSTART;TZID=Europe/Berlin:20240525T100000
DTEND;TZID=Europe/Berlin:20240525T190000
DTSTAMP:20260423T080022
CREATED:20240521T085606Z
LAST-MODIFIED:20240521T085606Z
UID:4433-1716631200-1716663600@www.myairplane.de
SUMMARY:Kundenbuchung
DESCRIPTION:Martin
URL:https://www.myairplane.de/event/kundenbuchung-389/
CATEGORIES:Cessna 172 D-EVEL
END:VEVENT
BEGIN:VEVENT
DTSTART;TZID=Europe/Berlin:20240525T160000
DTEND;TZID=Europe/Berlin:20240602T210000
DTSTAMP:20260423T080022
CREATED:20240415T090135Z
LAST-MODIFIED:20240415T090135Z
UID:4352-1716652800-1717362000@www.myairplane.de
SUMMARY:Kundenbuchung
DESCRIPTION:Jonathan
URL:https://www.myairplane.de/event/kundenbuchung-374/
CATEGORIES:Cirrus SR22 D-EMYA
END:VEVENT
BEGIN:VEVENT
DTSTART;TZID=Europe/Berlin:20240531T160000
DTEND;TZID=Europe/Berlin:20240531T210000
DTSTAMP:20260423T080022
CREATED:20240527T121551Z
LAST-MODIFIED:20240527T121551Z
UID:4440-1717171200-1717189200@www.myairplane.de
SUMMARY:Kundenbuchung
DESCRIPTION:Christoph
URL:https://www.myairplane.de/event/kundenbuchung-381/
CATEGORIES:Cessna 172 D-EVEL
END:VEVENT
END:VCALENDAR