BEGIN:VCALENDAR
VERSION:2.0
PRODID:-//myAirplane - ECPv6.15.20//NONSGML v1.0//EN
CALSCALE:GREGORIAN
METHOD:PUBLISH
X-WR-CALNAME:myAirplane
X-ORIGINAL-URL:https://www.myairplane.de
X-WR-CALDESC:Veranstaltungen für myAirplane
REFRESH-INTERVAL;VALUE=DURATION:PT1H
X-Robots-Tag:noindex
X-PUBLISHED-TTL:PT1H
BEGIN:VTIMEZONE
TZID:Europe/Berlin
BEGIN:DAYLIGHT
TZOFFSETFROM:+0100
TZOFFSETTO:+0200
TZNAME:CEST
DTSTART:20230326T010000
END:DAYLIGHT
BEGIN:STANDARD
TZOFFSETFROM:+0200
TZOFFSETTO:+0100
TZNAME:CET
DTSTART:20231029T010000
END:STANDARD
BEGIN:DAYLIGHT
TZOFFSETFROM:+0100
TZOFFSETTO:+0200
TZNAME:CEST
DTSTART:20240331T010000
END:DAYLIGHT
BEGIN:STANDARD
TZOFFSETFROM:+0200
TZOFFSETTO:+0100
TZNAME:CET
DTSTART:20241027T010000
END:STANDARD
BEGIN:DAYLIGHT
TZOFFSETFROM:+0100
TZOFFSETTO:+0200
TZNAME:CEST
DTSTART:20250330T010000
END:DAYLIGHT
BEGIN:STANDARD
TZOFFSETFROM:+0200
TZOFFSETTO:+0100
TZNAME:CET
DTSTART:20251026T010000
END:STANDARD
END:VTIMEZONE
BEGIN:VEVENT
DTSTART;TZID=Europe/Berlin:20240212T110000
DTEND;TZID=Europe/Berlin:20240212T150000
DTSTAMP:20260423T134827
CREATED:20240130T195150Z
LAST-MODIFIED:20240211T115210Z
UID:4206-1707735600-1707750000@www.myairplane.de
SUMMARY:Kundenbuchung - Checkflug
DESCRIPTION:Mathias mit Alexander
URL:https://www.myairplane.de/event/kundenbuchung-checkflug-36/
CATEGORIES:Cirrus SR22 D-EMYA
END:VEVENT
BEGIN:VEVENT
DTSTART;TZID=Europe/Berlin:20240217T090000
DTEND;TZID=Europe/Berlin:20240217T180000
DTSTAMP:20260423T134827
CREATED:20240128T133646Z
LAST-MODIFIED:20240128T133646Z
UID:4202-1708160400-1708192800@www.myairplane.de
SUMMARY:Kundenbuchung - Checkflug
DESCRIPTION:Mathias mit Tomasz
URL:https://www.myairplane.de/event/kundenbuchung-checkflug-35/
CATEGORIES:Cirrus SR22 D-EMYA
END:VEVENT
BEGIN:VEVENT
DTSTART;TZID=Europe/Berlin:20240218T090000
DTEND;TZID=Europe/Berlin:20240218T110000
DTSTAMP:20260423T134827
CREATED:20240216T094845Z
LAST-MODIFIED:20240216T094845Z
UID:4221-1708246800-1708254000@www.myairplane.de
SUMMARY:Kundenbuchung
DESCRIPTION:Bernd
URL:https://www.myairplane.de/event/kundenbuchung-355/
CATEGORIES:Cirrus SR22 D-EMYA
END:VEVENT
BEGIN:VEVENT
DTSTART;TZID=Europe/Berlin:20240218T140000
DTEND;TZID=Europe/Berlin:20240218T170000
DTSTAMP:20260423T134827
CREATED:20240216T160317Z
LAST-MODIFIED:20240216T160317Z
UID:4224-1708264800-1708275600@www.myairplane.de
SUMMARY:Kundenbuchung
DESCRIPTION:Dylan
URL:https://www.myairplane.de/event/kundenbuchung-356/
CATEGORIES:Cessna 172 D-EVEL
END:VEVENT
BEGIN:VEVENT
DTSTART;TZID=Europe/Berlin:20240223T090000
DTEND;TZID=Europe/Berlin:20240223T120000
DTSTAMP:20260423T134827
CREATED:20240125T142820Z
LAST-MODIFIED:20240125T142820Z
UID:4199-1708678800-1708689600@www.myairplane.de
SUMMARY:Kundenbuchung - Training
DESCRIPTION:Steffen mit Willi
URL:https://www.myairplane.de/event/kundenbuchung-training-122/
CATEGORIES:Cessna 172 D-EVEL
END:VEVENT
BEGIN:VEVENT
DTSTART;TZID=Europe/Berlin:20240223T090000
DTEND;TZID=Europe/Berlin:20240223T190000
DTSTAMP:20260423T134827
CREATED:20240221T140929Z
LAST-MODIFIED:20240221T140929Z
UID:4231-1708678800-1708714800@www.myairplane.de
SUMMARY:Kundenbuchung
DESCRIPTION:Paul
URL:https://www.myairplane.de/event/kundenbuchung-350/
CATEGORIES:Cirrus SR22 D-EMYA
END:VEVENT
BEGIN:VEVENT
DTSTART;TZID=Europe/Berlin:20240224T090000
DTEND;TZID=Europe/Berlin:20240224T160000
DTSTAMP:20260423T134827
CREATED:20240212T103356Z
LAST-MODIFIED:20240212T103356Z
UID:4218-1708765200-1708790400@www.myairplane.de
SUMMARY:Kundenbuchung
DESCRIPTION:Wolfram
URL:https://www.myairplane.de/event/kundenbuchung-354/
CATEGORIES:Cirrus SR22 D-EMYA
END:VEVENT
BEGIN:VEVENT
DTSTART;TZID=Europe/Berlin:20240227T080000
DTEND;TZID=Europe/Berlin:20240228T160000
DTSTAMP:20260423T134827
CREATED:20240226T140632Z
LAST-MODIFIED:20240226T140632Z
UID:4240-1709020800-1709136000@www.myairplane.de
SUMMARY:Werft
DESCRIPTION:
URL:https://www.myairplane.de/event/werft-6/
CATEGORIES:Cessna 172 D-EVEL
END:VEVENT
BEGIN:VEVENT
DTSTART;TZID=Europe/Berlin:20240229T150000
DTEND;TZID=Europe/Berlin:20240229T180000
DTSTAMP:20260423T134827
CREATED:20240220T125539Z
LAST-MODIFIED:20240220T125539Z
UID:4228-1709218800-1709229600@www.myairplane.de
SUMMARY:Kundenbuchung
DESCRIPTION:Mathis
URL:https://www.myairplane.de/event/kundenbuchung-357/
CATEGORIES:Cessna 172 D-EVEL
END:VEVENT
END:VCALENDAR