BEGIN:VCALENDAR
VERSION:2.0
PRODID:-//myAirplane - ECPv6.15.20//NONSGML v1.0//EN
CALSCALE:GREGORIAN
METHOD:PUBLISH
X-ORIGINAL-URL:https://www.myairplane.de
X-WR-CALDESC:Veranstaltungen für myAirplane
REFRESH-INTERVAL;VALUE=DURATION:PT1H
X-Robots-Tag:noindex
X-PUBLISHED-TTL:PT1H
BEGIN:VTIMEZONE
TZID:Europe/Berlin
BEGIN:DAYLIGHT
TZOFFSETFROM:+0100
TZOFFSETTO:+0200
TZNAME:CEST
DTSTART:20220327T010000
END:DAYLIGHT
BEGIN:STANDARD
TZOFFSETFROM:+0200
TZOFFSETTO:+0100
TZNAME:CET
DTSTART:20221030T010000
END:STANDARD
BEGIN:DAYLIGHT
TZOFFSETFROM:+0100
TZOFFSETTO:+0200
TZNAME:CEST
DTSTART:20230326T010000
END:DAYLIGHT
BEGIN:STANDARD
TZOFFSETFROM:+0200
TZOFFSETTO:+0100
TZNAME:CET
DTSTART:20231029T010000
END:STANDARD
BEGIN:DAYLIGHT
TZOFFSETFROM:+0100
TZOFFSETTO:+0200
TZNAME:CEST
DTSTART:20240331T010000
END:DAYLIGHT
BEGIN:STANDARD
TZOFFSETFROM:+0200
TZOFFSETTO:+0100
TZNAME:CET
DTSTART:20241027T010000
END:STANDARD
END:VTIMEZONE
BEGIN:VEVENT
DTSTART;TZID=Europe/Berlin:20231001T100000
DTEND;TZID=Europe/Berlin:20231001T140000
DTSTAMP:20260423T194733
CREATED:20230930T133729Z
LAST-MODIFIED:20230930T133729Z
UID:4055-1696154400-1696168800@www.myairplane.de
SUMMARY:Kundenbuchung - Training
DESCRIPTION:Mathias mit Bernd
URL:https://www.myairplane.de/event/kundenbuchung-training-119/
CATEGORIES:Cirrus SR22 D-EMYA
END:VEVENT
BEGIN:VEVENT
DTSTART;TZID=Europe/Berlin:20231002T100000
DTEND;TZID=Europe/Berlin:20231002T150000
DTSTAMP:20260423T194733
CREATED:20231002T162031Z
LAST-MODIFIED:20231002T162031Z
UID:4059-1696240800-1696258800@www.myairplane.de
SUMMARY:Kundenbuchung - Training
DESCRIPTION:Mathias mit Bernd
URL:https://www.myairplane.de/event/kundenbuchung-training-120/
CATEGORIES:Cirrus SR22 D-EMYA
END:VEVENT
BEGIN:VEVENT
DTSTART;TZID=Europe/Berlin:20231002T160000
DTEND;TZID=Europe/Berlin:20231002T200000
DTSTAMP:20260423T194733
CREATED:20230926T110839Z
LAST-MODIFIED:20230929T213137Z
UID:4047-1696262400-1696276800@www.myairplane.de
SUMMARY:Kundenbuchung
DESCRIPTION:Dylan
URL:https://www.myairplane.de/event/kundenbuchung-338/
CATEGORIES:Cessna 172 D-EVEL
END:VEVENT
BEGIN:VEVENT
DTSTART;TZID=Europe/Berlin:20231007T100000
DTEND;TZID=Europe/Berlin:20231007T130000
DTSTAMP:20260423T194733
CREATED:20230920T092500Z
LAST-MODIFIED:20230924T203724Z
UID:4036-1696672800-1696683600@www.myairplane.de
SUMMARY:Kundenbuchung - Checkflug
DESCRIPTION:Ulf mit Sebastian
URL:https://www.myairplane.de/event/kundenbuchung-checkflug-30/
CATEGORIES:Cirrus SR22 D-EMYA
END:VEVENT
BEGIN:VEVENT
DTSTART;TZID=Europe/Berlin:20231008T080000
DTEND;TZID=Europe/Berlin:20231008T150000
DTSTAMP:20260423T194733
CREATED:20231004T122253Z
LAST-MODIFIED:20231004T122253Z
UID:4065-1696752000-1696777200@www.myairplane.de
SUMMARY:Kundenbuchung
DESCRIPTION:Daniel
URL:https://www.myairplane.de/event/kundenbuchung-340/
CATEGORIES:Cessna 172 D-EVEL
END:VEVENT
BEGIN:VEVENT
DTSTART;TZID=Europe/Berlin:20231008T090000
DTEND;TZID=Europe/Berlin:20231008T160000
DTSTAMP:20260423T194733
CREATED:20230828T083317Z
LAST-MODIFIED:20230828T083317Z
UID:3966-1696755600-1696780800@www.myairplane.de
SUMMARY:Kundenbuchung - Training
DESCRIPTION:Mathias mit Tomasz
URL:https://www.myairplane.de/event/kundenbuchung-training-113/
CATEGORIES:Cirrus SR22 D-EMYA
END:VEVENT
BEGIN:VEVENT
DTSTART;TZID=Europe/Berlin:20231008T150000
DTEND;TZID=Europe/Berlin:20231008T180000
DTSTAMP:20260423T194733
CREATED:20231002T162218Z
LAST-MODIFIED:20231002T162218Z
UID:4062-1696777200-1696788000@www.myairplane.de
SUMMARY:Kundenbuchung - Training
DESCRIPTION:Steffen mit Christoph
URL:https://www.myairplane.de/event/kundenbuchung-training-121/
CATEGORIES:Cessna 172 D-EVEL
END:VEVENT
BEGIN:VEVENT
DTSTART;TZID=Europe/Berlin:20231015T100000
DTEND;TZID=Europe/Berlin:20231015T200000
DTSTAMP:20260423T194733
CREATED:20230901T100801Z
LAST-MODIFIED:20230901T100801Z
UID:3981-1697364000-1697400000@www.myairplane.de
SUMMARY:Kundenbuchung - Training
DESCRIPTION:Mathias mit Götz und Frank
URL:https://www.myairplane.de/event/kundenbuchung-training-116/
CATEGORIES:Cirrus SR22 D-EMYA
END:VEVENT
BEGIN:VEVENT
DTSTART;TZID=Europe/Berlin:20231016T160000
DTEND;TZID=Europe/Berlin:20231016T180000
DTSTAMP:20260423T194733
CREATED:20231016T114634Z
LAST-MODIFIED:20231016T114634Z
UID:4086-1697472000-1697479200@www.myairplane.de
SUMMARY:Kundenbuchung
DESCRIPTION:Mathis
URL:https://www.myairplane.de/event/kundenbuchung-342/
CATEGORIES:Cessna 172 D-EVEL
END:VEVENT
BEGIN:VEVENT
DTSTART;TZID=Europe/Berlin:20231017T080000
DTEND;TZID=Europe/Berlin:20231018T103000
DTSTAMP:20260423T194733
CREATED:20231014T103437Z
LAST-MODIFIED:20231014T103437Z
UID:4079-1697529600-1697625000@www.myairplane.de
SUMMARY:Kundenbuchung
DESCRIPTION:Thomas
URL:https://www.myairplane.de/event/kundenbuchung-341/
CATEGORIES:Cirrus SR22 D-EMYA
END:VEVENT
BEGIN:VEVENT
DTSTART;TZID=Europe/Berlin:20231018T103000
DTEND;TZID=Europe/Berlin:20231018T140000
DTSTAMP:20260423T194733
CREATED:20231013T085259Z
LAST-MODIFIED:20231014T103520Z
UID:4073-1697625000-1697637600@www.myairplane.de
SUMMARY:Kundenbuchung - Checkflug
DESCRIPTION:Ulf mit Bernd
URL:https://www.myairplane.de/event/kundenbuchung-checkflug-31/
CATEGORIES:Cirrus SR22 D-EMYA
END:VEVENT
BEGIN:VEVENT
DTSTART;TZID=Europe/Berlin:20231022T140000
DTEND;TZID=Europe/Berlin:20231022T180000
DTSTAMP:20260423T194733
CREATED:20231021T085554Z
LAST-MODIFIED:20231021T085640Z
UID:4091-1697983200-1697997600@www.myairplane.de
SUMMARY:Kundenbuchung
DESCRIPTION:Mathis
URL:https://www.myairplane.de/event/kundenbuchung-337/
CATEGORIES:Cessna 172 D-EVEL
END:VEVENT
BEGIN:VEVENT
DTSTART;TZID=Europe/Berlin:20231025T100000
DTEND;TZID=Europe/Berlin:20231025T140000
DTSTAMP:20260423T194733
CREATED:20231013T085404Z
LAST-MODIFIED:20231013T085404Z
UID:4076-1698228000-1698242400@www.myairplane.de
SUMMARY:Kundenbuchung - Checkflug
DESCRIPTION:Ulf mit Sebastian
URL:https://www.myairplane.de/event/kundenbuchung-checkflug-32/
CATEGORIES:Cirrus SR22 D-EMYA
END:VEVENT
BEGIN:VEVENT
DTSTART;TZID=Europe/Berlin:20231027T083000
DTEND;TZID=Europe/Berlin:20231027T160000
DTSTAMP:20260423T194733
CREATED:20231025T074048Z
LAST-MODIFIED:20231025T074048Z
UID:4105-1698395400-1698422400@www.myairplane.de
SUMMARY:Kundenbuchung
DESCRIPTION:Jens FA
URL:https://www.myairplane.de/event/kundenbuchung-343/
CATEGORIES:Cirrus SR22 D-EMYA
END:VEVENT
BEGIN:VEVENT
DTSTART;TZID=Europe/Berlin:20231029T090000
DTEND;TZID=Europe/Berlin:20231029T160000
DTSTAMP:20260423T194733
CREATED:20230828T084156Z
LAST-MODIFIED:20230828T084156Z
UID:3972-1698570000-1698595200@www.myairplane.de
SUMMARY:Kundenbuchung - Training
DESCRIPTION:Mathias mit Tomasz
URL:https://www.myairplane.de/event/kundenbuchung-training-115/
CATEGORIES:Cirrus SR22 D-EMYA
END:VEVENT
END:VCALENDAR