BEGIN:VCALENDAR
VERSION:2.0
PRODID:-//myAirplane - ECPv6.15.20//NONSGML v1.0//EN
CALSCALE:GREGORIAN
METHOD:PUBLISH
X-ORIGINAL-URL:https://www.myairplane.de
X-WR-CALDESC:Veranstaltungen für myAirplane
REFRESH-INTERVAL;VALUE=DURATION:PT1H
X-Robots-Tag:noindex
X-PUBLISHED-TTL:PT1H
BEGIN:VTIMEZONE
TZID:Europe/Berlin
BEGIN:DAYLIGHT
TZOFFSETFROM:+0100
TZOFFSETTO:+0200
TZNAME:CEST
DTSTART:20220327T010000
END:DAYLIGHT
BEGIN:STANDARD
TZOFFSETFROM:+0200
TZOFFSETTO:+0100
TZNAME:CET
DTSTART:20221030T010000
END:STANDARD
BEGIN:DAYLIGHT
TZOFFSETFROM:+0100
TZOFFSETTO:+0200
TZNAME:CEST
DTSTART:20230326T010000
END:DAYLIGHT
BEGIN:STANDARD
TZOFFSETFROM:+0200
TZOFFSETTO:+0100
TZNAME:CET
DTSTART:20231029T010000
END:STANDARD
BEGIN:DAYLIGHT
TZOFFSETFROM:+0100
TZOFFSETTO:+0200
TZNAME:CEST
DTSTART:20240331T010000
END:DAYLIGHT
BEGIN:STANDARD
TZOFFSETFROM:+0200
TZOFFSETTO:+0100
TZNAME:CET
DTSTART:20241027T010000
END:STANDARD
END:VTIMEZONE
BEGIN:VEVENT
DTSTART;TZID=Europe/Berlin:20230701T080000
DTEND;TZID=Europe/Berlin:20230701T130000
DTSTAMP:20260424T004256
CREATED:20230606T133020Z
LAST-MODIFIED:20230629T223521Z
UID:3792-1688198400-1688216400@www.myairplane.de
SUMMARY:Kundenbuchung - Training
DESCRIPTION:Mathias mit Frank und Götz
URL:https://www.myairplane.de/event/kundenbuchung-training-103/
CATEGORIES:Cirrus SR22 D-EMYA
END:VEVENT
BEGIN:VEVENT
DTSTART;TZID=Europe/Berlin:20230701T140000
DTEND;TZID=Europe/Berlin:20230701T180000
DTSTAMP:20260424T004256
CREATED:20230607T131431Z
LAST-MODIFIED:20230607T131431Z
UID:3795-1688220000-1688234400@www.myairplane.de
SUMMARY:Kundenbuchung
DESCRIPTION:Martin
URL:https://www.myairplane.de/event/kundenbuchung-302/
CATEGORIES:Cessna 172 D-EVEL
END:VEVENT
BEGIN:VEVENT
DTSTART;TZID=Europe/Berlin:20230702T070000
DTEND;TZID=Europe/Berlin:20230702T200000
DTSTAMP:20260424T004256
CREATED:20230529T093212Z
LAST-MODIFIED:20230529T093212Z
UID:3768-1688281200-1688328000@www.myairplane.de
SUMMARY:Kundenbuchung
DESCRIPTION:Martin
URL:https://www.myairplane.de/event/kundenbuchung-297/
CATEGORIES:Cessna 172 D-EVEL
END:VEVENT
BEGIN:VEVENT
DTSTART;TZID=Europe/Berlin:20230706T100000
DTEND;TZID=Europe/Berlin:20230706T120000
DTSTAMP:20260424T004256
CREATED:20230629T223313Z
LAST-MODIFIED:20230629T223313Z
UID:3852-1688637600-1688644800@www.myairplane.de
SUMMARY:Kundenbuchung
DESCRIPTION:Nils
URL:https://www.myairplane.de/event/kundenbuchung-308/
CATEGORIES:Cessna 172 D-EVEL
END:VEVENT
BEGIN:VEVENT
DTSTART;TZID=Europe/Berlin:20230707T070000
DTEND;TZID=Europe/Berlin:20230707T220000
DTSTAMP:20260424T004256
CREATED:20230703T094541Z
LAST-MODIFIED:20230703T094541Z
UID:3858-1688713200-1688767200@www.myairplane.de
SUMMARY:Kundenbuchung
DESCRIPTION:Daniel
URL:https://www.myairplane.de/event/kundenbuchung-309/
CATEGORIES:Cirrus SR22 D-EMYA
END:VEVENT
BEGIN:VEVENT
DTSTART;TZID=Europe/Berlin:20230708T090000
DTEND;TZID=Europe/Berlin:20230709T100000
DTSTAMP:20260424T004256
CREATED:20230706T125145Z
LAST-MODIFIED:20230706T125145Z
UID:3880-1688806800-1688896800@www.myairplane.de
SUMMARY:Kundenbuchung
DESCRIPTION:Selim
URL:https://www.myairplane.de/event/kundenbuchung-313/
CATEGORIES:Cessna 172 D-EVEL
END:VEVENT
BEGIN:VEVENT
DTSTART;TZID=Europe/Berlin:20230709T100000
DTEND;TZID=Europe/Berlin:20230709T170000
DTSTAMP:20260424T004256
CREATED:20230421T073540Z
LAST-MODIFIED:20230703T181316Z
UID:3686-1688896800-1688922000@www.myairplane.de
SUMMARY:Kundenbuchung
DESCRIPTION:Amar
URL:https://www.myairplane.de/event/kundenbuchung-273/
CATEGORIES:Cirrus SR22 D-EMYA
END:VEVENT
BEGIN:VEVENT
DTSTART;TZID=Europe/Berlin:20230710T150000
DTEND;TZID=Europe/Berlin:20230710T200000
DTSTAMP:20260424T004256
CREATED:20230706T114103Z
LAST-MODIFIED:20230706T114103Z
UID:3871-1689001200-1689019200@www.myairplane.de
SUMMARY:Kundenbuchung - Training
DESCRIPTION:Mathias mit Götz
URL:https://www.myairplane.de/event/kundenbuchung-training-108/
CATEGORIES:Cirrus SR22 D-EMYA
END:VEVENT
BEGIN:VEVENT
DTSTART;TZID=Europe/Berlin:20230712T100000
DTEND;TZID=Europe/Berlin:20230712T130000
DTSTAMP:20260424T004256
CREATED:20230711T101641Z
LAST-MODIFIED:20230711T101641Z
UID:3889-1689156000-1689166800@www.myairplane.de
SUMMARY:Kundenbuchung - Training
DESCRIPTION:Steffen mit Lukas
URL:https://www.myairplane.de/event/kundenbuchung-training-110/
CATEGORIES:Cessna 172 D-EVEL
END:VEVENT
BEGIN:VEVENT
DTSTART;TZID=Europe/Berlin:20230712T150000
DTEND;TZID=Europe/Berlin:20230712T200000
DTSTAMP:20260424T004256
CREATED:20230704T083036Z
LAST-MODIFIED:20230704T083036Z
UID:3868-1689174000-1689192000@www.myairplane.de
SUMMARY:Kundenbuchung - Training
DESCRIPTION:Mathias mit Dirk
URL:https://www.myairplane.de/event/kundenbuchung-training-102/
CATEGORIES:Cirrus SR22 D-EMYA
END:VEVENT
BEGIN:VEVENT
DTSTART;TZID=Europe/Berlin:20230713T130000
DTEND;TZID=Europe/Berlin:20230713T180000
DTSTAMP:20260424T004256
CREATED:20230713T122249Z
LAST-MODIFIED:20230713T122249Z
UID:3893-1689253200-1689271200@www.myairplane.de
SUMMARY:Kundenbuchung
DESCRIPTION:Sami
URL:https://www.myairplane.de/event/kundenbuchung-315/
CATEGORIES:Cessna 172 D-EVEL
END:VEVENT
BEGIN:VEVENT
DTSTART;TZID=Europe/Berlin:20230714T070000
DTEND;TZID=Europe/Berlin:20230714T200000
DTSTAMP:20260424T004256
CREATED:20230703T094704Z
LAST-MODIFIED:20230703T094704Z
UID:3861-1689318000-1689364800@www.myairplane.de
SUMMARY:Kundenbuchung
DESCRIPTION:Daniel
URL:https://www.myairplane.de/event/kundenbuchung-310/
CATEGORIES:Cirrus SR22 D-EMYA
END:VEVENT
BEGIN:VEVENT
DTSTART;TZID=Europe/Berlin:20230724T090000
DTEND;TZID=Europe/Berlin:20230724T200000
DTSTAMP:20260424T004256
CREATED:20230703T124642Z
LAST-MODIFIED:20230723T012551Z
UID:3864-1690189200-1690228800@www.myairplane.de
SUMMARY:Kundenbuchung - Training
DESCRIPTION:Steffen mit Benjamin und Lukas
URL:https://www.myairplane.de/event/kundenbuchung-311/
CATEGORIES:Cessna 172 D-EVEL
END:VEVENT
BEGIN:VEVENT
DTSTART;TZID=Europe/Berlin:20230726T100000
DTEND;TZID=Europe/Berlin:20230726T140000
DTSTAMP:20260424T004256
CREATED:20230721T130053Z
LAST-MODIFIED:20230721T130053Z
UID:3908-1690365600-1690380000@www.myairplane.de
SUMMARY:Kundenbuchung
DESCRIPTION:Ulf mit Dirk
URL:https://www.myairplane.de/event/kundenbuchung-318/
CATEGORIES:Cirrus SR22 D-EMYA
END:VEVENT
BEGIN:VEVENT
DTSTART;TZID=Europe/Berlin:20230728T090000
DTEND;TZID=Europe/Berlin:20230814T180000
DTSTAMP:20260424T004256
CREATED:20230710T135951Z
LAST-MODIFIED:20230725T150707Z
UID:3886-1690534800-1692036000@www.myairplane.de
SUMMARY:Kundenbuchung
DESCRIPTION:Sami
URL:https://www.myairplane.de/event/kundenbuchung-314/
CATEGORIES:Cessna 172 D-EVEL
END:VEVENT
END:VCALENDAR