BEGIN:VCALENDAR
VERSION:2.0
PRODID:-//myAirplane - ECPv6.15.20//NONSGML v1.0//EN
CALSCALE:GREGORIAN
METHOD:PUBLISH
X-ORIGINAL-URL:https://www.myairplane.de
X-WR-CALDESC:Veranstaltungen für myAirplane
REFRESH-INTERVAL;VALUE=DURATION:PT1H
X-Robots-Tag:noindex
X-PUBLISHED-TTL:PT1H
BEGIN:VTIMEZONE
TZID:Europe/Berlin
BEGIN:DAYLIGHT
TZOFFSETFROM:+0100
TZOFFSETTO:+0200
TZNAME:CEST
DTSTART:20220327T010000
END:DAYLIGHT
BEGIN:STANDARD
TZOFFSETFROM:+0200
TZOFFSETTO:+0100
TZNAME:CET
DTSTART:20221030T010000
END:STANDARD
BEGIN:DAYLIGHT
TZOFFSETFROM:+0100
TZOFFSETTO:+0200
TZNAME:CEST
DTSTART:20230326T010000
END:DAYLIGHT
BEGIN:STANDARD
TZOFFSETFROM:+0200
TZOFFSETTO:+0100
TZNAME:CET
DTSTART:20231029T010000
END:STANDARD
BEGIN:DAYLIGHT
TZOFFSETFROM:+0100
TZOFFSETTO:+0200
TZNAME:CEST
DTSTART:20240331T010000
END:DAYLIGHT
BEGIN:STANDARD
TZOFFSETFROM:+0200
TZOFFSETTO:+0100
TZNAME:CET
DTSTART:20241027T010000
END:STANDARD
END:VTIMEZONE
BEGIN:VEVENT
DTSTART;TZID=Europe/Berlin:20230402T080000
DTEND;TZID=Europe/Berlin:20230402T200000
DTSTAMP:20260424T043858
CREATED:20230329T104459Z
LAST-MODIFIED:20230329T104459Z
UID:3651-1680422400-1680465600@www.myairplane.de
SUMMARY:Kundenbuchung
DESCRIPTION:Wolfram
URL:https://www.myairplane.de/event/kundenbuchung-280/
CATEGORIES:Cirrus SR22 D-EMYA
END:VEVENT
BEGIN:VEVENT
DTSTART;TZID=Europe/Berlin:20230410T120000
DTEND;TZID=Europe/Berlin:20230410T200000
DTSTAMP:20260424T043858
CREATED:20230407T054325Z
LAST-MODIFIED:20230407T054325Z
UID:3658-1681128000-1681156800@www.myairplane.de
SUMMARY:Kundenbuchung
DESCRIPTION:Dylan
URL:https://www.myairplane.de/event/kundenbuchung-282/
CATEGORIES:Cessna 172 D-EVEL
END:VEVENT
BEGIN:VEVENT
DTSTART;TZID=Europe/Berlin:20230418T090000
DTEND;TZID=Europe/Berlin:20230419T180000
DTSTAMP:20260424T043858
CREATED:20230414T121947Z
LAST-MODIFIED:20230414T121947Z
UID:3666-1681808400-1681927200@www.myairplane.de
SUMMARY:Kundenbuchung
DESCRIPTION:Alexander
URL:https://www.myairplane.de/event/kundenbuchung-284/
CATEGORIES:Cirrus SR22 D-EMYA
END:VEVENT
BEGIN:VEVENT
DTSTART;TZID=Europe/Berlin:20230420T080000
DTEND;TZID=Europe/Berlin:20230420T200000
DTSTAMP:20260424T043858
CREATED:20230408T060810Z
LAST-MODIFIED:20230408T060810Z
UID:3661-1681977600-1682020800@www.myairplane.de
SUMMARY:Kundenbuchung
DESCRIPTION:Ulf und Sebastian
URL:https://www.myairplane.de/event/kundenbuchung-283/
CATEGORIES:Cirrus SR22 D-EMYA
END:VEVENT
BEGIN:VEVENT
DTSTART;TZID=Europe/Berlin:20230422T080000
DTEND;TZID=Europe/Berlin:20230423T180000
DTSTAMP:20260424T043858
CREATED:20230219T103137Z
LAST-MODIFIED:20230219T103137Z
UID:3586-1682150400-1682272800@www.myairplane.de
SUMMARY:Kundenbuchung
DESCRIPTION:Dirk und Philip
URL:https://www.myairplane.de/event/kundenbuchung-271/
CATEGORIES:Cirrus SR22 D-EMYA
END:VEVENT
BEGIN:VEVENT
DTSTART;TZID=Europe/Berlin:20230425T130000
DTEND;TZID=Europe/Berlin:20230425T190000
DTSTAMP:20260424T043858
CREATED:20230424T094322Z
LAST-MODIFIED:20230424T094322Z
UID:3692-1682427600-1682449200@www.myairplane.de
SUMMARY:Kundenbuchung
DESCRIPTION:Dylan
URL:https://www.myairplane.de/event/kundenbuchung-263/
CATEGORIES:Cessna 172 D-EVEL
END:VEVENT
BEGIN:VEVENT
DTSTART;TZID=Europe/Berlin:20230428T160000
DTEND;TZID=Europe/Berlin:20230428T200000
DTSTAMP:20260424T043858
CREATED:20230427T104441Z
LAST-MODIFIED:20230427T104441Z
UID:3697-1682697600-1682712000@www.myairplane.de
SUMMARY:Kundenbuchung
DESCRIPTION:Steffen mit Christoph
URL:https://www.myairplane.de/event/kundenbuchung-272/
CATEGORIES:Cessna 172 D-EVEL
END:VEVENT
BEGIN:VEVENT
DTSTART;TZID=Europe/Berlin:20230430T170000
DTEND;TZID=Europe/Berlin:20230430T200000
DTSTAMP:20260424T043858
CREATED:20230430T113520Z
LAST-MODIFIED:20230430T113520Z
UID:3706-1682874000-1682884800@www.myairplane.de
SUMMARY:Kundenbuchung
DESCRIPTION:Thomas
URL:https://www.myairplane.de/event/kundenbuchung-287/
CATEGORIES:Cirrus SR22 D-EMYA
END:VEVENT
END:VCALENDAR