BEGIN:VCALENDAR
VERSION:2.0
PRODID:-//myAirplane - ECPv6.15.20//NONSGML v1.0//EN
CALSCALE:GREGORIAN
METHOD:PUBLISH
X-ORIGINAL-URL:https://www.myairplane.de
X-WR-CALDESC:Veranstaltungen für myAirplane
REFRESH-INTERVAL;VALUE=DURATION:PT1H
X-Robots-Tag:noindex
X-PUBLISHED-TTL:PT1H
BEGIN:VTIMEZONE
TZID:Europe/Berlin
BEGIN:DAYLIGHT
TZOFFSETFROM:+0100
TZOFFSETTO:+0200
TZNAME:CEST
DTSTART:20220327T010000
END:DAYLIGHT
BEGIN:STANDARD
TZOFFSETFROM:+0200
TZOFFSETTO:+0100
TZNAME:CET
DTSTART:20221030T010000
END:STANDARD
BEGIN:DAYLIGHT
TZOFFSETFROM:+0100
TZOFFSETTO:+0200
TZNAME:CEST
DTSTART:20230326T010000
END:DAYLIGHT
BEGIN:STANDARD
TZOFFSETFROM:+0200
TZOFFSETTO:+0100
TZNAME:CET
DTSTART:20231029T010000
END:STANDARD
BEGIN:DAYLIGHT
TZOFFSETFROM:+0100
TZOFFSETTO:+0200
TZNAME:CEST
DTSTART:20240331T010000
END:DAYLIGHT
BEGIN:STANDARD
TZOFFSETFROM:+0200
TZOFFSETTO:+0100
TZNAME:CET
DTSTART:20241027T010000
END:STANDARD
END:VTIMEZONE
BEGIN:VEVENT
DTSTART;TZID=Europe/Berlin:20230204T100000
DTEND;TZID=Europe/Berlin:20230204T200000
DTSTAMP:20260424T070553
CREATED:20230203T072840Z
LAST-MODIFIED:20230203T072840Z
UID:3567-1675504800-1675540800@www.myairplane.de
SUMMARY:Kundenbuchung
DESCRIPTION:Paul
URL:https://www.myairplane.de/event/kundenbuchung-267/
CATEGORIES:Cirrus SR22 D-EMYA
END:VEVENT
BEGIN:VEVENT
DTSTART;TZID=Europe/Berlin:20230208T140000
DTEND;TZID=Europe/Berlin:20230208T180000
DTSTAMP:20260424T070553
CREATED:20230206T101038Z
LAST-MODIFIED:20230206T101038Z
UID:3571-1675864800-1675879200@www.myairplane.de
SUMMARY:Kundenbuchung
DESCRIPTION:Dylan
URL:https://www.myairplane.de/event/kundenbuchung-268/
CATEGORIES:Cessna 172 D-EVEL
END:VEVENT
BEGIN:VEVENT
DTSTART;TZID=Europe/Berlin:20230219T120000
DTEND;TZID=Europe/Berlin:20230219T190000
DTSTAMP:20260424T070553
CREATED:20230215T103828Z
LAST-MODIFIED:20230219T102910Z
UID:3582-1676808000-1676833200@www.myairplane.de
SUMMARY:Kundenbuchung
DESCRIPTION:Paul
URL:https://www.myairplane.de/event/kundenbuchung-270/
CATEGORIES:Cirrus SR22 D-EMYA
END:VEVENT
BEGIN:VEVENT
DTSTART;TZID=Europe/Berlin:20230226T110000
DTEND;TZID=Europe/Berlin:20230226T170000
DTSTAMP:20260424T070553
CREATED:20230210T233222Z
LAST-MODIFIED:20230210T233222Z
UID:3574-1677409200-1677430800@www.myairplane.de
SUMMARY:Kundenbuchung
DESCRIPTION:Philip
URL:https://www.myairplane.de/event/kundenbuchung-269/
CATEGORIES:Cirrus SR22 D-EMYA
END:VEVENT
BEGIN:VEVENT
DTSTART;TZID=Europe/Berlin:20230226T150000
DTEND;TZID=Europe/Berlin:20230226T170000
DTSTAMP:20260424T070553
CREATED:20230226T123837Z
LAST-MODIFIED:20230226T123837Z
UID:3600-1677423600-1677430800@www.myairplane.de
SUMMARY:Kundenbuchung
DESCRIPTION:Nils
URL:https://www.myairplane.de/event/kundenbuchung-274/
CATEGORIES:Cessna 172 D-EVEL
END:VEVENT
BEGIN:VEVENT
DTSTART;TZID=Europe/Berlin:20230228T090000
DTEND;TZID=Europe/Berlin:20230228T130000
DTSTAMP:20260424T070553
CREATED:20230220T130545Z
LAST-MODIFIED:20230220T130545Z
UID:3590-1677574800-1677589200@www.myairplane.de
SUMMARY:Kundenbuchung - Training
DESCRIPTION:Mathias mit Alexander
URL:https://www.myairplane.de/event/kundenbuchung-training-96/
CATEGORIES:Cirrus SR22 D-EMYA
END:VEVENT
END:VCALENDAR