BEGIN:VCALENDAR
VERSION:2.0
PRODID:-//myAirplane - ECPv6.15.20//NONSGML v1.0//EN
CALSCALE:GREGORIAN
METHOD:PUBLISH
X-WR-CALNAME:myAirplane
X-ORIGINAL-URL:https://www.myairplane.de
X-WR-CALDESC:Veranstaltungen für myAirplane
REFRESH-INTERVAL;VALUE=DURATION:PT1H
X-Robots-Tag:noindex
X-PUBLISHED-TTL:PT1H
BEGIN:VTIMEZONE
TZID:Europe/Berlin
BEGIN:DAYLIGHT
TZOFFSETFROM:+0100
TZOFFSETTO:+0200
TZNAME:CEST
DTSTART:20220327T010000
END:DAYLIGHT
BEGIN:STANDARD
TZOFFSETFROM:+0200
TZOFFSETTO:+0100
TZNAME:CET
DTSTART:20221030T010000
END:STANDARD
BEGIN:DAYLIGHT
TZOFFSETFROM:+0100
TZOFFSETTO:+0200
TZNAME:CEST
DTSTART:20230326T010000
END:DAYLIGHT
BEGIN:STANDARD
TZOFFSETFROM:+0200
TZOFFSETTO:+0100
TZNAME:CET
DTSTART:20231029T010000
END:STANDARD
BEGIN:DAYLIGHT
TZOFFSETFROM:+0100
TZOFFSETTO:+0200
TZNAME:CEST
DTSTART:20240331T010000
END:DAYLIGHT
BEGIN:STANDARD
TZOFFSETFROM:+0200
TZOFFSETTO:+0100
TZNAME:CET
DTSTART:20241027T010000
END:STANDARD
END:VTIMEZONE
BEGIN:VEVENT
DTSTART;TZID=Europe/Berlin:20230103T150000
DTEND;TZID=Europe/Berlin:20230103T190000
DTSTAMP:20260424T080633
CREATED:20230103T120628Z
LAST-MODIFIED:20230103T120628Z
UID:3550-1672758000-1672772400@www.myairplane.de
SUMMARY:Kundenbuchung
DESCRIPTION:Paul
URL:https://www.myairplane.de/event/kundenbuchung-264/
CATEGORIES:Cirrus SR22 D-EMYA
END:VEVENT
BEGIN:VEVENT
DTSTART;TZID=Europe/Berlin:20230109T080000
DTEND;TZID=Europe/Berlin:20230120T170000
DTSTAMP:20260424T080633
CREATED:20221205T165917Z
LAST-MODIFIED:20221205T165917Z
UID:3520-1673251200-1674234000@www.myairplane.de
SUMMARY:Werft
DESCRIPTION:
URL:https://www.myairplane.de/event/werft-4/
CATEGORIES:Cirrus SR22 D-EMYA
END:VEVENT
BEGIN:VEVENT
DTSTART;TZID=Europe/Berlin:20230113T100000
DTEND;TZID=Europe/Berlin:20230113T130000
DTSTAMP:20260424T080633
CREATED:20230111T090753Z
LAST-MODIFIED:20230111T090753Z
UID:3562-1673604000-1673614800@www.myairplane.de
SUMMARY:Kundenbuchung
DESCRIPTION:Alexander
URL:https://www.myairplane.de/event/kundenbuchung-266/
CATEGORIES:Cessna 172 D-EVEL
END:VEVENT
BEGIN:VEVENT
DTSTART;TZID=Europe/Berlin:20230114T090000
DTEND;TZID=Europe/Berlin:20230114T130000
DTSTAMP:20260424T080633
CREATED:20230111T085040Z
LAST-MODIFIED:20230111T085040Z
UID:3559-1673686800-1673701200@www.myairplane.de
SUMMARY:Kundenbuchung
DESCRIPTION:David
URL:https://www.myairplane.de/event/kundenbuchung-265/
CATEGORIES:Cessna 172 D-EVEL
END:VEVENT
BEGIN:VEVENT
DTSTART;TZID=Europe/Berlin:20230126T120000
DTEND;TZID=Europe/Berlin:20230126T160000
DTSTAMP:20260424T080633
CREATED:20230106T133832Z
LAST-MODIFIED:20230106T133832Z
UID:3555-1674734400-1674748800@www.myairplane.de
SUMMARY:Kundenbuchung - Checkflug
DESCRIPTION:Ulf mit Alexander
URL:https://www.myairplane.de/event/kundenbuchung-checkflug-25/
CATEGORIES:Cirrus SR22 D-EMYA
END:VEVENT
END:VCALENDAR