BEGIN:VCALENDAR
VERSION:2.0
PRODID:-//myAirplane - ECPv6.15.20//NONSGML v1.0//EN
CALSCALE:GREGORIAN
METHOD:PUBLISH
X-ORIGINAL-URL:https://www.myairplane.de
X-WR-CALDESC:Veranstaltungen für myAirplane
REFRESH-INTERVAL;VALUE=DURATION:PT1H
X-Robots-Tag:noindex
X-PUBLISHED-TTL:PT1H
BEGIN:VTIMEZONE
TZID:Europe/Berlin
BEGIN:DAYLIGHT
TZOFFSETFROM:+0100
TZOFFSETTO:+0200
TZNAME:CEST
DTSTART:20210328T010000
END:DAYLIGHT
BEGIN:STANDARD
TZOFFSETFROM:+0200
TZOFFSETTO:+0100
TZNAME:CET
DTSTART:20211031T010000
END:STANDARD
BEGIN:DAYLIGHT
TZOFFSETFROM:+0100
TZOFFSETTO:+0200
TZNAME:CEST
DTSTART:20220327T010000
END:DAYLIGHT
BEGIN:STANDARD
TZOFFSETFROM:+0200
TZOFFSETTO:+0100
TZNAME:CET
DTSTART:20221030T010000
END:STANDARD
BEGIN:DAYLIGHT
TZOFFSETFROM:+0100
TZOFFSETTO:+0200
TZNAME:CEST
DTSTART:20230326T010000
END:DAYLIGHT
BEGIN:STANDARD
TZOFFSETFROM:+0200
TZOFFSETTO:+0100
TZNAME:CET
DTSTART:20231029T010000
END:STANDARD
END:VTIMEZONE
BEGIN:VEVENT
DTSTART;TZID=Europe/Berlin:20220902T090000
DTEND;TZID=Europe/Berlin:20220902T200000
DTSTAMP:20260424T160044
CREATED:20220901T134408Z
LAST-MODIFIED:20220901T134408Z
UID:3302-1662109200-1662148800@www.myairplane.de
SUMMARY:Kundenbuchung
DESCRIPTION:Alexander
URL:https://www.myairplane.de/event/kundenbuchung-247/
CATEGORIES:Cessna 172 D-EVEL
END:VEVENT
BEGIN:VEVENT
DTSTART;TZID=Europe/Berlin:20220908T170000
DTEND;TZID=Europe/Berlin:20220908T200000
DTSTAMP:20260424T160044
CREATED:20220907T191514Z
LAST-MODIFIED:20220907T191514Z
UID:3316-1662656400-1662667200@www.myairplane.de
SUMMARY:Kundenbuchung - Training
DESCRIPTION:Mathias mit Michael
URL:https://www.myairplane.de/event/kundenbuchung-training-84/
CATEGORIES:Cirrus SR22 D-EMYA
END:VEVENT
BEGIN:VEVENT
DTSTART;TZID=Europe/Berlin:20220909T080000
DTEND;TZID=Europe/Berlin:20220911T200000
DTSTAMP:20260424T160044
CREATED:20220525T143511Z
LAST-MODIFIED:20220525T143511Z
UID:3079-1662710400-1662926400@www.myairplane.de
SUMMARY:Kundenbuchung
DESCRIPTION:Wolfram
URL:https://www.myairplane.de/event/kundenbuchung-215/
CATEGORIES:Cirrus SR22 D-EMYA
END:VEVENT
BEGIN:VEVENT
DTSTART;TZID=Europe/Berlin:20220911T100000
DTEND;TZID=Europe/Berlin:20220911T190000
DTSTAMP:20260424T160044
CREATED:20220909T110736Z
LAST-MODIFIED:20220910T140102Z
UID:3328-1662890400-1662922800@www.myairplane.de
SUMMARY:Kundenbuchung
DESCRIPTION:David
URL:https://www.myairplane.de/event/kundenbuchung-249/
CATEGORIES:Cessna 172 D-EVEL
END:VEVENT
BEGIN:VEVENT
DTSTART;TZID=Europe/Berlin:20220914T090000
DTEND;TZID=Europe/Berlin:20220914T200000
DTSTAMP:20260424T160044
CREATED:20220907T191212Z
LAST-MODIFIED:20220907T191212Z
UID:3307-1663146000-1663185600@www.myairplane.de
SUMMARY:Kundenbuchung
DESCRIPTION:Daniel
URL:https://www.myairplane.de/event/kundenbuchung-248/
CATEGORIES:Cessna 172 D-EVEL
END:VEVENT
BEGIN:VEVENT
DTSTART;TZID=Europe/Berlin:20220915T080000
DTEND;TZID=Europe/Berlin:20220915T120000
DTSTAMP:20260424T160044
CREATED:20220914T140730Z
LAST-MODIFIED:20220914T140730Z
UID:3344-1663228800-1663243200@www.myairplane.de
SUMMARY:Kundenbuchung - Training
DESCRIPTION:Mathias mit Michael
URL:https://www.myairplane.de/event/kundenbuchung-training-85/
CATEGORIES:Cirrus SR22 D-EMYA
END:VEVENT
BEGIN:VEVENT
DTSTART;TZID=Europe/Berlin:20220916T090000
DTEND;TZID=Europe/Berlin:20220916T140000
DTSTAMP:20260424T160044
CREATED:20220914T113121Z
LAST-MODIFIED:20220914T151340Z
UID:3341-1663318800-1663336800@www.myairplane.de
SUMMARY:Kundenbuchung
DESCRIPTION:Alexander
URL:https://www.myairplane.de/event/kundenbuchung-252/
CATEGORIES:Cessna 172 D-EVEL
END:VEVENT
BEGIN:VEVENT
DTSTART;TZID=Europe/Berlin:20220918T130000
DTEND;TZID=Europe/Berlin:20220918T170000
DTSTAMP:20260424T160044
CREATED:20220918T112704Z
LAST-MODIFIED:20220918T112704Z
UID:3367-1663506000-1663520400@www.myairplane.de
SUMMARY:Kundenbuchung
DESCRIPTION:David
URL:https://www.myairplane.de/event/kundenbuchung-253/
CATEGORIES:Cessna 172 D-EVEL
END:VEVENT
BEGIN:VEVENT
DTSTART;TZID=Europe/Berlin:20220919T170000
DTEND;TZID=Europe/Berlin:20220919T200000
DTSTAMP:20260424T160044
CREATED:20220918T124101Z
LAST-MODIFIED:20220918T124101Z
UID:3392-1663606800-1663617600@www.myairplane.de
SUMMARY:Kundenbuchung - Training
DESCRIPTION:Mathias mit Michael
URL:https://www.myairplane.de/event/kundenbuchung-training-89/
CATEGORIES:Cirrus SR22 D-EMYA
END:VEVENT
BEGIN:VEVENT
DTSTART;TZID=Europe/Berlin:20220922T080000
DTEND;TZID=Europe/Berlin:20220922T160000
DTSTAMP:20260424T160044
CREATED:20220913T133242Z
LAST-MODIFIED:20220914T140901Z
UID:3338-1663833600-1663862400@www.myairplane.de
SUMMARY:Werft - 50h Kontrolle
DESCRIPTION:
URL:https://www.myairplane.de/event/werft-50h-kontrolle-3/
CATEGORIES:Cirrus SR22 D-EMYA
END:VEVENT
BEGIN:VEVENT
DTSTART;TZID=Europe/Berlin:20220923T080000
DTEND;TZID=Europe/Berlin:20220923T140000
DTSTAMP:20260424T160044
CREATED:20220907T191430Z
LAST-MODIFIED:20220919T203018Z
UID:3313-1663920000-1663941600@www.myairplane.de
SUMMARY:Kundenbuchung - Training
DESCRIPTION:Mathias mit Michael
URL:https://www.myairplane.de/event/kundenbuchung-training-83/
CATEGORIES:Cirrus SR22 D-EMYA
END:VEVENT
BEGIN:VEVENT
DTSTART;TZID=Europe/Berlin:20220923T120000
DTEND;TZID=Europe/Berlin:20220923T150000
DTSTAMP:20260424T160044
CREATED:20220921T151207Z
LAST-MODIFIED:20220921T151207Z
UID:3401-1663934400-1663945200@www.myairplane.de
SUMMARY:Kundenbuchung
DESCRIPTION:David
URL:https://www.myairplane.de/event/kundenbuchung-255/
CATEGORIES:Cessna 172 D-EVEL
END:VEVENT
BEGIN:VEVENT
DTSTART;TZID=Europe/Berlin:20220925T100000
DTEND;TZID=Europe/Berlin:20220925T190000
DTSTAMP:20260424T160044
CREATED:20220921T151038Z
LAST-MODIFIED:20220921T151038Z
UID:3398-1664100000-1664132400@www.myairplane.de
SUMMARY:Kundenbuchung
DESCRIPTION:David
URL:https://www.myairplane.de/event/kundenbuchung-241/
CATEGORIES:Cessna 172 D-EVEL
END:VEVENT
BEGIN:VEVENT
DTSTART;TZID=Europe/Berlin:20220925T170000
DTEND;TZID=Europe/Berlin:20220925T200000
DTSTAMP:20260424T160044
CREATED:20220907T191339Z
LAST-MODIFIED:20220907T191339Z
UID:3310-1664125200-1664136000@www.myairplane.de
SUMMARY:Kundenbuchung  - Training
DESCRIPTION:Mathias mit Michael
URL:https://www.myairplane.de/event/kundenbuchung-training-82/
CATEGORIES:Cirrus SR22 D-EMYA
END:VEVENT
BEGIN:VEVENT
DTSTART;TZID=Europe/Berlin:20220926T130000
DTEND;TZID=Europe/Berlin:20220926T180000
DTSTAMP:20260424T160044
CREATED:20220907T191717Z
LAST-MODIFIED:20220907T191717Z
UID:3319-1664197200-1664215200@www.myairplane.de
SUMMARY:Kundenbuchung - IFR Check
DESCRIPTION:Hendrik mit Sebastian
URL:https://www.myairplane.de/event/kundenbuchung-ifr-check-4/
CATEGORIES:Cirrus SR22 D-EMYA
END:VEVENT
END:VCALENDAR