BEGIN:VCALENDAR
VERSION:2.0
PRODID:-//myAirplane - ECPv6.15.20//NONSGML v1.0//EN
CALSCALE:GREGORIAN
METHOD:PUBLISH
X-WR-CALNAME:myAirplane
X-ORIGINAL-URL:https://www.myairplane.de
X-WR-CALDESC:Veranstaltungen für myAirplane
REFRESH-INTERVAL;VALUE=DURATION:PT1H
X-Robots-Tag:noindex
X-PUBLISHED-TTL:PT1H
BEGIN:VTIMEZONE
TZID:Europe/Berlin
BEGIN:DAYLIGHT
TZOFFSETFROM:+0100
TZOFFSETTO:+0200
TZNAME:CEST
DTSTART:20210328T010000
END:DAYLIGHT
BEGIN:STANDARD
TZOFFSETFROM:+0200
TZOFFSETTO:+0100
TZNAME:CET
DTSTART:20211031T010000
END:STANDARD
BEGIN:DAYLIGHT
TZOFFSETFROM:+0100
TZOFFSETTO:+0200
TZNAME:CEST
DTSTART:20220327T010000
END:DAYLIGHT
BEGIN:STANDARD
TZOFFSETFROM:+0200
TZOFFSETTO:+0100
TZNAME:CET
DTSTART:20221030T010000
END:STANDARD
BEGIN:DAYLIGHT
TZOFFSETFROM:+0100
TZOFFSETTO:+0200
TZNAME:CEST
DTSTART:20230326T010000
END:DAYLIGHT
BEGIN:STANDARD
TZOFFSETFROM:+0200
TZOFFSETTO:+0100
TZNAME:CET
DTSTART:20231029T010000
END:STANDARD
END:VTIMEZONE
BEGIN:VEVENT
DTSTART;TZID=Europe/Berlin:20220801T100000
DTEND;TZID=Europe/Berlin:20220801T140000
DTSTAMP:20260424T171611
CREATED:20220730T115851Z
LAST-MODIFIED:20220730T115851Z
UID:3227-1659348000-1659362400@www.myairplane.de
SUMMARY:Werft - 50h Kontrolle
DESCRIPTION:
URL:https://www.myairplane.de/event/werft-50h-kontrolle-2/
CATEGORIES:Cessna 172 D-EVEL
END:VEVENT
BEGIN:VEVENT
DTSTART;TZID=Europe/Berlin:20220802T140000
DTEND;TZID=Europe/Berlin:20220802T200000
DTSTAMP:20260424T171611
CREATED:20220801T101327Z
LAST-MODIFIED:20220801T101327Z
UID:3233-1659448800-1659470400@www.myairplane.de
SUMMARY:Kundenbuchung
DESCRIPTION:Richard
URL:https://www.myairplane.de/event/kundenbuchung-235/
CATEGORIES:Cessna 172 D-EVEL
END:VEVENT
BEGIN:VEVENT
DTSTART;TZID=Europe/Berlin:20220803T090000
DTEND;TZID=Europe/Berlin:20220803T140000
DTSTAMP:20260424T171611
CREATED:20220720T132755Z
LAST-MODIFIED:20220720T132755Z
UID:3183-1659517200-1659535200@www.myairplane.de
SUMMARY:Kundenbuchung - Training
DESCRIPTION:Mathias mit Christoph
URL:https://www.myairplane.de/event/kundenbuchung-training-72/
CATEGORIES:Cirrus SR22 D-EMYA
END:VEVENT
BEGIN:VEVENT
DTSTART;TZID=Europe/Berlin:20220803T140000
DTEND;TZID=Europe/Berlin:20220803T200000
DTSTAMP:20260424T171611
CREATED:20220803T082416Z
LAST-MODIFIED:20220803T082416Z
UID:3239-1659535200-1659556800@www.myairplane.de
SUMMARY:Kundenbuchung
DESCRIPTION:Paul
URL:https://www.myairplane.de/event/kundenbuchung-236/
CATEGORIES:Cirrus SR22 D-EMYA
END:VEVENT
BEGIN:VEVENT
DTSTART;TZID=Europe/Berlin:20220804T170000
DTEND;TZID=Europe/Berlin:20220804T190000
DTSTAMP:20260424T171611
CREATED:20220727T110759Z
LAST-MODIFIED:20220727T110759Z
UID:3223-1659632400-1659639600@www.myairplane.de
SUMMARY:Kundenbuchung - Training
DESCRIPTION:Mathias mit Florian
URL:https://www.myairplane.de/event/kundenbuchung-training-76/
CATEGORIES:Cirrus SR22 D-EMYA
END:VEVENT
BEGIN:VEVENT
DTSTART;TZID=Europe/Berlin:20220805T090000
DTEND;TZID=Europe/Berlin:20220808T200000
DTSTAMP:20260424T171611
CREATED:20220711T193556Z
LAST-MODIFIED:20220711T193556Z
UID:3162-1659690000-1659988800@www.myairplane.de
SUMMARY:Kundenbuchung
DESCRIPTION:Sebastian
URL:https://www.myairplane.de/event/kundenbuchung-226/
CATEGORIES:Cirrus SR22 D-EMYA
END:VEVENT
BEGIN:VEVENT
DTSTART;TZID=Europe/Berlin:20220806T080000
DTEND;TZID=Europe/Berlin:20220807T180000
DTSTAMP:20260424T171611
CREATED:20220715T095147Z
LAST-MODIFIED:20220722T123147Z
UID:3172-1659772800-1659895200@www.myairplane.de
SUMMARY:Kundenbuchung
DESCRIPTION:Sami
URL:https://www.myairplane.de/event/kundenbuchung-228/
CATEGORIES:Cessna 172 D-EVEL
END:VEVENT
BEGIN:VEVENT
DTSTART;TZID=Europe/Berlin:20220808T090000
DTEND;TZID=Europe/Berlin:20220808T200000
DTSTAMP:20260424T171611
CREATED:20220730T115950Z
LAST-MODIFIED:20220805T201538Z
UID:3230-1659949200-1659988800@www.myairplane.de
SUMMARY:Kundenbuchung - Training
DESCRIPTION:Steffen mit Alexander und Nils
URL:https://www.myairplane.de/event/kundenbuchung-training-77/
CATEGORIES:Cessna 172 D-EVEL
END:VEVENT
BEGIN:VEVENT
DTSTART;TZID=Europe/Berlin:20220809T070000
DTEND;TZID=Europe/Berlin:20220809T200000
DTSTAMP:20260424T171611
CREATED:20220803T183243Z
LAST-MODIFIED:20220803T183243Z
UID:3242-1660028400-1660075200@www.myairplane.de
SUMMARY:Kundenbuchung
DESCRIPTION:Paul
URL:https://www.myairplane.de/event/kundenbuchung-237/
CATEGORIES:Cirrus SR22 D-EMYA
END:VEVENT
BEGIN:VEVENT
DTSTART;TZID=Europe/Berlin:20220809T160000
DTEND;TZID=Europe/Berlin:20220809T200000
DTSTAMP:20260424T171611
CREATED:20220805T201746Z
LAST-MODIFIED:20220805T201746Z
UID:3253-1660060800-1660075200@www.myairplane.de
SUMMARY:Kundenbuchung
DESCRIPTION:Daniel
URL:https://www.myairplane.de/event/kundenbuchung-238/
CATEGORIES:Cessna 172 D-EVEL
END:VEVENT
BEGIN:VEVENT
DTSTART;TZID=Europe/Berlin:20220810T100000
DTEND;TZID=Europe/Berlin:20220810T120000
DTSTAMP:20260424T171611
CREATED:20220806T104949Z
LAST-MODIFIED:20220806T104949Z
UID:3256-1660125600-1660132800@www.myairplane.de
SUMMARY:Kundenbuchung - Checkflug
DESCRIPTION:Ulf mit Thomas
URL:https://www.myairplane.de/event/kundenbuchung-checkflug-23/
CATEGORIES:Cirrus SR22 D-EMYA
END:VEVENT
BEGIN:VEVENT
DTSTART;TZID=Europe/Berlin:20220811T090000
DTEND;TZID=Europe/Berlin:20220811T140000
DTSTAMP:20260424T171611
CREATED:20220802T201755Z
LAST-MODIFIED:20220802T201755Z
UID:3236-1660208400-1660226400@www.myairplane.de
SUMMARY:Kundenbuchung - Training
DESCRIPTION:Mathias mit Alexander
URL:https://www.myairplane.de/event/kundenbuchung-training-78/
CATEGORIES:Cirrus SR22 D-EMYA
END:VEVENT
BEGIN:VEVENT
DTSTART;TZID=Europe/Berlin:20220812T150000
DTEND;TZID=Europe/Berlin:20220812T180000
DTSTAMP:20260424T171611
CREATED:20220812T111302Z
LAST-MODIFIED:20220812T111406Z
UID:3267-1660316400-1660327200@www.myairplane.de
SUMMARY:Kundenbuchung
DESCRIPTION:Alexander
URL:https://www.myairplane.de/event/kundenbuchung-240/
CATEGORIES:Cessna 172 D-EVEL
END:VEVENT
BEGIN:VEVENT
DTSTART;TZID=Europe/Berlin:20220812T160000
DTEND;TZID=Europe/Berlin:20220812T200000
DTSTAMP:20260424T171611
CREATED:20220812T111530Z
LAST-MODIFIED:20220812T111530Z
UID:3270-1660320000-1660334400@www.myairplane.de
SUMMARY:Kundenbuchung - Training
DESCRIPTION:Mathias mit Wolfgang
URL:https://www.myairplane.de/event/kundenbuchung-training-80/
CATEGORIES:Cirrus SR22 D-EMYA
END:VEVENT
BEGIN:VEVENT
DTSTART;TZID=Europe/Berlin:20220813T100000
DTEND;TZID=Europe/Berlin:20220813T200000
DTSTAMP:20260424T171611
CREATED:20220812T110936Z
LAST-MODIFIED:20220812T111136Z
UID:3264-1660384800-1660420800@www.myairplane.de
SUMMARY:Kundenbuchung
DESCRIPTION:Paul
URL:https://www.myairplane.de/event/kundenbuchung-233/
CATEGORIES:Cirrus SR22 D-EMYA
END:VEVENT
BEGIN:VEVENT
DTSTART;TZID=Europe/Berlin:20220814T110000
DTEND;TZID=Europe/Berlin:20220814T140000
DTSTAMP:20260424T171611
CREATED:20220809T110328Z
LAST-MODIFIED:20220809T110328Z
UID:3260-1660474800-1660485600@www.myairplane.de
SUMMARY:Kundenbuchung
DESCRIPTION:Nils
URL:https://www.myairplane.de/event/kundenbuchung-239/
CATEGORIES:Cessna 172 D-EVEL
END:VEVENT
BEGIN:VEVENT
DTSTART;TZID=Europe/Berlin:20220816T110000
DTEND;TZID=Europe/Berlin:20220816T150000
DTSTAMP:20260424T171611
CREATED:20220816T101934Z
LAST-MODIFIED:20220816T101934Z
UID:3281-1660647600-1660662000@www.myairplane.de
SUMMARY:Kundenbuchung
DESCRIPTION:Nils
URL:https://www.myairplane.de/event/kundenbuchung-242/
CATEGORIES:Cessna 172 D-EVEL
END:VEVENT
BEGIN:VEVENT
DTSTART;TZID=Europe/Berlin:20220816T150000
DTEND;TZID=Europe/Berlin:20220816T200000
DTSTAMP:20260424T171611
CREATED:20220812T200509Z
LAST-MODIFIED:20220812T200509Z
UID:3273-1660662000-1660680000@www.myairplane.de
SUMMARY:Kundenbuchung - Training
DESCRIPTION:Mathias mit Alexander
URL:https://www.myairplane.de/event/kundenbuchung-training-81/
CATEGORIES:Cirrus SR22 D-EMYA
END:VEVENT
BEGIN:VEVENT
DTSTART;TZID=Europe/Berlin:20220817T170000
DTEND;TZID=Europe/Berlin:20220817T190000
DTSTAMP:20260424T171611
CREATED:20220816T155449Z
LAST-MODIFIED:20220816T155449Z
UID:3284-1660755600-1660762800@www.myairplane.de
SUMMARY:Kundenbuchung
DESCRIPTION:Richard
URL:https://www.myairplane.de/event/kundenbuchung-243/
CATEGORIES:Cessna 172 D-EVEL
END:VEVENT
BEGIN:VEVENT
DTSTART;TZID=Europe/Berlin:20220819T140000
DTEND;TZID=Europe/Berlin:20220819T190000
DTSTAMP:20260424T171611
CREATED:20220803T183335Z
LAST-MODIFIED:20220804T104048Z
UID:3245-1660917600-1660935600@www.myairplane.de
SUMMARY:Kundenbuchung - Training
DESCRIPTION:Mathias mit Paul
URL:https://www.myairplane.de/event/kundenbuchung-training-79/
CATEGORIES:Cirrus SR22 D-EMYA
END:VEVENT
BEGIN:VEVENT
DTSTART;TZID=Europe/Berlin:20220821T100000
DTEND;TZID=Europe/Berlin:20220821T160000
DTSTAMP:20260424T171611
CREATED:20220816T155606Z
LAST-MODIFIED:20220818T195349Z
UID:3287-1661076000-1661097600@www.myairplane.de
SUMMARY:Kundenbuchung
DESCRIPTION:Dirk
URL:https://www.myairplane.de/event/kundenbuchung-244/
CATEGORIES:Cirrus SR22 D-EMYA
END:VEVENT
BEGIN:VEVENT
DTSTART;TZID=Europe/Berlin:20220822T090000
DTEND;TZID=Europe/Berlin:20220822T140000
DTSTAMP:20260424T171611
CREATED:20220720T132844Z
LAST-MODIFIED:20220720T132844Z
UID:3186-1661158800-1661176800@www.myairplane.de
SUMMARY:Kundenbuchung - Training
DESCRIPTION:Mathias mit Felix
URL:https://www.myairplane.de/event/kundenbuchung-training-73/
CATEGORIES:Cirrus SR22 D-EMYA
END:VEVENT
BEGIN:VEVENT
DTSTART;TZID=Europe/Berlin:20220823T090000
DTEND;TZID=Europe/Berlin:20220823T190000
DTSTAMP:20260424T171611
CREATED:20220718T101031Z
LAST-MODIFIED:20220718T101031Z
UID:3175-1661245200-1661281200@www.myairplane.de
SUMMARY:Kundenbuchung
DESCRIPTION:Albert
URL:https://www.myairplane.de/event/kundenbuchung-229/
CATEGORIES:Cirrus SR22 D-EMYA
END:VEVENT
BEGIN:VEVENT
DTSTART;TZID=Europe/Berlin:20220824T090000
DTEND;TZID=Europe/Berlin:20220824T130000
DTSTAMP:20260424T171611
CREATED:20220823T073208Z
LAST-MODIFIED:20220823T073208Z
UID:3292-1661331600-1661346000@www.myairplane.de
SUMMARY:Kundenbuchung
DESCRIPTION:Joachim
URL:https://www.myairplane.de/event/kundenbuchung-245/
CATEGORIES:Cessna 172 D-EVEL
END:VEVENT
BEGIN:VEVENT
DTSTART;TZID=Europe/Berlin:20220824T090000
DTEND;TZID=Europe/Berlin:20220824T140000
DTSTAMP:20260424T171611
CREATED:20220720T132937Z
LAST-MODIFIED:20220720T132937Z
UID:3189-1661331600-1661349600@www.myairplane.de
SUMMARY:Kundenbuchung  - Training
DESCRIPTION:Mathias mit Felix
URL:https://www.myairplane.de/event/kundenbuchung-training-74/
CATEGORIES:Cirrus SR22 D-EMYA
END:VEVENT
BEGIN:VEVENT
DTSTART;TZID=Europe/Berlin:20220826T150000
DTEND;TZID=Europe/Berlin:20220826T190000
DTSTAMP:20260424T171611
CREATED:20220825T092054Z
LAST-MODIFIED:20220825T092054Z
UID:3295-1661526000-1661540400@www.myairplane.de
SUMMARY:Kundenbuchung
DESCRIPTION:Alexander
URL:https://www.myairplane.de/event/kundenbuchung-246/
CATEGORIES:Cessna 172 D-EVEL
END:VEVENT
BEGIN:VEVENT
DTSTART;TZID=Europe/Berlin:20220828T090000
DTEND;TZID=Europe/Berlin:20220829T190000
DTSTAMP:20260424T171611
CREATED:20220726T135638Z
LAST-MODIFIED:20220726T135638Z
UID:3215-1661677200-1661799600@www.myairplane.de
SUMMARY:Kundenbuchung
DESCRIPTION:Wolfram
URL:https://www.myairplane.de/event/kundenbuchung-234/
CATEGORIES:Cirrus SR22 D-EMYA
END:VEVENT
BEGIN:VEVENT
DTSTART;TZID=Europe/Berlin:20220830T130000
DTEND;TZID=Europe/Berlin:20220830T200000
DTSTAMP:20260424T171611
CREATED:20220725T162049Z
LAST-MODIFIED:20220815T134110Z
UID:3204-1661864400-1661889600@www.myairplane.de
SUMMARY:Kundenbuchung - Training
DESCRIPTION:Mathias mit Christoph
URL:https://www.myairplane.de/event/kundenbuchung-training-75/
CATEGORIES:Cirrus SR22 D-EMYA
END:VEVENT
END:VCALENDAR