BEGIN:VCALENDAR
VERSION:2.0
PRODID:-//myAirplane - ECPv6.15.20//NONSGML v1.0//EN
CALSCALE:GREGORIAN
METHOD:PUBLISH
X-WR-CALNAME:myAirplane
X-ORIGINAL-URL:https://www.myairplane.de
X-WR-CALDESC:Veranstaltungen für myAirplane
REFRESH-INTERVAL;VALUE=DURATION:PT1H
X-Robots-Tag:noindex
X-PUBLISHED-TTL:PT1H
BEGIN:VTIMEZONE
TZID:Europe/Berlin
BEGIN:DAYLIGHT
TZOFFSETFROM:+0100
TZOFFSETTO:+0200
TZNAME:CEST
DTSTART:20210328T010000
END:DAYLIGHT
BEGIN:STANDARD
TZOFFSETFROM:+0200
TZOFFSETTO:+0100
TZNAME:CET
DTSTART:20211031T010000
END:STANDARD
BEGIN:DAYLIGHT
TZOFFSETFROM:+0100
TZOFFSETTO:+0200
TZNAME:CEST
DTSTART:20220327T010000
END:DAYLIGHT
BEGIN:STANDARD
TZOFFSETFROM:+0200
TZOFFSETTO:+0100
TZNAME:CET
DTSTART:20221030T010000
END:STANDARD
BEGIN:DAYLIGHT
TZOFFSETFROM:+0100
TZOFFSETTO:+0200
TZNAME:CEST
DTSTART:20230326T010000
END:DAYLIGHT
BEGIN:STANDARD
TZOFFSETFROM:+0200
TZOFFSETTO:+0100
TZNAME:CET
DTSTART:20231029T010000
END:STANDARD
END:VTIMEZONE
BEGIN:VEVENT
DTSTART;TZID=Europe/Berlin:20220708T080000
DTEND;TZID=Europe/Berlin:20220710T200000
DTSTAMP:20260424T201003
CREATED:20220525T143418Z
LAST-MODIFIED:20220525T143418Z
UID:3076-1657267200-1657483200@www.myairplane.de
SUMMARY:Kundenbuchung
DESCRIPTION:Wolfram
URL:https://www.myairplane.de/event/kundenbuchung-214/
CATEGORIES:Cirrus SR22 D-EMYA
END:VEVENT
BEGIN:VEVENT
DTSTART;TZID=Europe/Berlin:20220710T110000
DTEND;TZID=Europe/Berlin:20220710T190000
DTSTAMP:20260424T201003
CREATED:20220708T095837Z
LAST-MODIFIED:20220708T095837Z
UID:3158-1657450800-1657479600@www.myairplane.de
SUMMARY:Kundenbuchung
DESCRIPTION:Richard und David
URL:https://www.myairplane.de/event/kundenbuchung-225/
CATEGORIES:Cessna 172 D-EVEL
END:VEVENT
BEGIN:VEVENT
DTSTART;TZID=Europe/Berlin:20220712T080000
DTEND;TZID=Europe/Berlin:20220714T180000
DTSTAMP:20260424T201003
CREATED:20220516T172435Z
LAST-MODIFIED:20220516T172435Z
UID:3062-1657612800-1657821600@www.myairplane.de
SUMMARY:Kundenbuchung
DESCRIPTION:Albert
URL:https://www.myairplane.de/event/kundenbuchung-212/
CATEGORIES:Cirrus SR22 D-EMYA
END:VEVENT
BEGIN:VEVENT
DTSTART;TZID=Europe/Berlin:20220715T090000
DTEND;TZID=Europe/Berlin:20220724T190000
DTSTAMP:20260424T201003
CREATED:20220405T105343Z
LAST-MODIFIED:20220405T105411Z
UID:2930-1657875600-1658689200@www.myairplane.de
SUMMARY:Kundenbuchung - Alpenfluglager
DESCRIPTION:Wolfram
URL:https://www.myairplane.de/event/kundenbuchung-191/
CATEGORIES:Cirrus SR22 D-EMYA
END:VEVENT
BEGIN:VEVENT
DTSTART;TZID=Europe/Berlin:20220718T110000
DTEND;TZID=Europe/Berlin:20220718T140000
DTSTAMP:20260424T201003
CREATED:20220705T142035Z
LAST-MODIFIED:20220705T142035Z
UID:3155-1658142000-1658152800@www.myairplane.de
SUMMARY:Kundenbuchung
DESCRIPTION:Steffen
URL:https://www.myairplane.de/event/kundenbuchung-224/
CATEGORIES:Cessna 172 D-EVEL
END:VEVENT
BEGIN:VEVENT
DTSTART;TZID=Europe/Berlin:20220724T100000
DTEND;TZID=Europe/Berlin:20220724T120000
DTSTAMP:20260424T201003
CREATED:20220722T122746Z
LAST-MODIFIED:20220722T122746Z
UID:3193-1658656800-1658664000@www.myairplane.de
SUMMARY:Kundenbuchung
DESCRIPTION:Richard
URL:https://www.myairplane.de/event/kundenbuchung-231/
CATEGORIES:Cessna 172 D-EVEL
END:VEVENT
BEGIN:VEVENT
DTSTART;TZID=Europe/Berlin:20220724T130000
DTEND;TZID=Europe/Berlin:20220724T180000
DTSTAMP:20260424T201003
CREATED:20220705T141913Z
LAST-MODIFIED:20220705T141913Z
UID:3152-1658667600-1658685600@www.myairplane.de
SUMMARY:Kundenbuchung
DESCRIPTION:Dylan
URL:https://www.myairplane.de/event/kundenbuchung-223/
CATEGORIES:Cessna 172 D-EVEL
END:VEVENT
BEGIN:VEVENT
DTSTART;TZID=Europe/Berlin:20220725T080000
DTEND;TZID=Europe/Berlin:20220729T160000
DTSTAMP:20260424T201003
CREATED:20220714T093202Z
LAST-MODIFIED:20220714T093202Z
UID:3169-1658736000-1659110400@www.myairplane.de
SUMMARY:Werft - 100h Kontrolle
DESCRIPTION:
URL:https://www.myairplane.de/event/werft-100h-kontrolle/
CATEGORIES:Cirrus SR22 D-EMYA
END:VEVENT
BEGIN:VEVENT
DTSTART;TZID=Europe/Berlin:20220726T170000
DTEND;TZID=Europe/Berlin:20220726T180000
DTSTAMP:20260424T201003
CREATED:20220726T145319Z
LAST-MODIFIED:20220726T145319Z
UID:3219-1658854800-1658858400@www.myairplane.de
SUMMARY:Kundenbuchung
DESCRIPTION:Sami
URL:https://www.myairplane.de/event/kundenbuchung-232/
CATEGORIES:Cessna 172 D-EVEL
END:VEVENT
BEGIN:VEVENT
DTSTART;TZID=Europe/Berlin:20220727T080000
DTEND;TZID=Europe/Berlin:20220727T210000
DTSTAMP:20260424T201003
CREATED:20220703T182234Z
LAST-MODIFIED:20220703T182234Z
UID:3142-1658908800-1658955600@www.myairplane.de
SUMMARY:Kundenbuchung
DESCRIPTION:Steffen
URL:https://www.myairplane.de/event/kundenbuchung-221/
CATEGORIES:Cessna 172 D-EVEL
END:VEVENT
BEGIN:VEVENT
DTSTART;TZID=Europe/Berlin:20220729T160000
DTEND;TZID=Europe/Berlin:20220731T200000
DTSTAMP:20260424T201003
CREATED:20220714T083952Z
LAST-MODIFIED:20220714T083952Z
UID:3166-1659110400-1659297600@www.myairplane.de
SUMMARY:Kundenbuchung
DESCRIPTION:Ulf
URL:https://www.myairplane.de/event/kundenbuchung-227/
CATEGORIES:Cirrus SR22 D-EMYA
END:VEVENT
END:VCALENDAR