BEGIN:VCALENDAR
VERSION:2.0
PRODID:-//myAirplane - ECPv6.15.20//NONSGML v1.0//EN
CALSCALE:GREGORIAN
METHOD:PUBLISH
X-WR-CALNAME:myAirplane
X-ORIGINAL-URL:https://www.myairplane.de
X-WR-CALDESC:Veranstaltungen für myAirplane
REFRESH-INTERVAL;VALUE=DURATION:PT1H
X-Robots-Tag:noindex
X-PUBLISHED-TTL:PT1H
BEGIN:VTIMEZONE
TZID:Europe/Berlin
BEGIN:DAYLIGHT
TZOFFSETFROM:+0100
TZOFFSETTO:+0200
TZNAME:CEST
DTSTART:20240331T010000
END:DAYLIGHT
BEGIN:STANDARD
TZOFFSETFROM:+0200
TZOFFSETTO:+0100
TZNAME:CET
DTSTART:20241027T010000
END:STANDARD
BEGIN:DAYLIGHT
TZOFFSETFROM:+0100
TZOFFSETTO:+0200
TZNAME:CEST
DTSTART:20250330T010000
END:DAYLIGHT
BEGIN:STANDARD
TZOFFSETFROM:+0200
TZOFFSETTO:+0100
TZNAME:CET
DTSTART:20251026T010000
END:STANDARD
BEGIN:DAYLIGHT
TZOFFSETFROM:+0100
TZOFFSETTO:+0200
TZNAME:CEST
DTSTART:20260329T010000
END:DAYLIGHT
BEGIN:STANDARD
TZOFFSETFROM:+0200
TZOFFSETTO:+0100
TZNAME:CET
DTSTART:20261025T010000
END:STANDARD
BEGIN:DAYLIGHT
TZOFFSETFROM:+0100
TZOFFSETTO:+0200
TZNAME:CEST
DTSTART:20270328T010000
END:DAYLIGHT
BEGIN:STANDARD
TZOFFSETFROM:+0200
TZOFFSETTO:+0100
TZNAME:CET
DTSTART:20271031T010000
END:STANDARD
END:VTIMEZONE
BEGIN:VEVENT
DTSTART;TZID=Europe/Berlin:20260418T160000
DTEND;TZID=Europe/Berlin:20260418T200000
DTSTAMP:20260421T133612
CREATED:20260323T195005Z
LAST-MODIFIED:20260323T195005Z
UID:5299-1776528000-1776542400@www.myairplane.de
SUMMARY:Kundenbuchung
DESCRIPTION:Mathias mit Constantin
URL:https://www.myairplane.de/event/kundenbuchung-507/
CATEGORIES:Cirrus SR22 D-EMYA
END:VEVENT
BEGIN:VEVENT
DTSTART;TZID=Europe/Berlin:20260410T090000
DTEND;TZID=Europe/Berlin:20260410T190000
DTSTAMP:20260421T133612
CREATED:20260318T090425Z
LAST-MODIFIED:20260318T090425Z
UID:5286-1775811600-1775847600@www.myairplane.de
SUMMARY:Kundenbuchung
DESCRIPTION:Linus
URL:https://www.myairplane.de/event/kundenbuchung-506/
CATEGORIES:Cirrus SR22 D-EMYA
END:VEVENT
BEGIN:VEVENT
DTSTART;TZID=Europe/Berlin:20260404T080000
DTEND;TZID=Europe/Berlin:20260406T200000
DTSTAMP:20260421T133612
CREATED:20260404T074806Z
LAST-MODIFIED:20260404T074806Z
UID:5310-1775289600-1775505600@www.myairplane.de
SUMMARY:Kundenbuchung
DESCRIPTION:Linus
URL:https://www.myairplane.de/event/kundenbuchung-509/
CATEGORIES:Cirrus SR22 D-EMYA
END:VEVENT
BEGIN:VEVENT
DTSTART;TZID=Europe/Berlin:20260327T090000
DTEND;TZID=Europe/Berlin:20260328T170000
DTSTAMP:20260421T133612
CREATED:20260128T221726Z
LAST-MODIFIED:20260323T194717Z
UID:5207-1774602000-1774717200@www.myairplane.de
SUMMARY:Kundenbuchung
DESCRIPTION:Wolfram
URL:https://www.myairplane.de/event/kundenbuchung-494/
CATEGORIES:Cirrus SR22 D-EMYA
END:VEVENT
BEGIN:VEVENT
DTSTART;TZID=Europe/Berlin:20260326T100000
DTEND;TZID=Europe/Berlin:20260326T140000
DTSTAMP:20260421T133612
CREATED:20260323T194907Z
LAST-MODIFIED:20260323T194907Z
UID:5296-1774519200-1774533600@www.myairplane.de
SUMMARY:Kundenbuchung - Training
DESCRIPTION:Ulf mit Hendrick
URL:https://www.myairplane.de/event/kundenbuchung-training-166/
CATEGORIES:Cirrus SR22 D-EMYA
END:VEVENT
BEGIN:VEVENT
DTSTART;TZID=Europe/Berlin:20260325T100000
DTEND;TZID=Europe/Berlin:20260325T130000
DTSTAMP:20260421T133612
CREATED:20260304T103205Z
LAST-MODIFIED:20260304T103205Z
UID:5277-1774432800-1774443600@www.myairplane.de
SUMMARY:Kundenbuchung - IR-Check
DESCRIPTION:Hendrick mit Ulf
URL:https://www.myairplane.de/event/kundenbuchung-ir-check-5/
CATEGORIES:Cirrus SR22 D-EMYA
END:VEVENT
BEGIN:VEVENT
DTSTART;TZID=Europe/Berlin:20260320T160000
DTEND;TZID=Europe/Berlin:20260322T180000
DTSTAMP:20260421T133612
CREATED:20260304T102618Z
LAST-MODIFIED:20260304T102618Z
UID:5265-1774022400-1774202400@www.myairplane.de
SUMMARY:Kundenbuchung
DESCRIPTION:Ulf
URL:https://www.myairplane.de/event/kundenbuchung-503/
CATEGORIES:Cirrus SR22 D-EMYA
END:VEVENT
BEGIN:VEVENT
DTSTART;TZID=Europe/Berlin:20260314T110000
DTEND;TZID=Europe/Berlin:20260314T150000
DTSTAMP:20260421T133612
CREATED:20260304T103050Z
LAST-MODIFIED:20260304T103050Z
UID:5274-1773486000-1773500400@www.myairplane.de
SUMMARY:Kundenbuchung - Checkflug
DESCRIPTION:Ulf mit Linus
URL:https://www.myairplane.de/event/kundenbuchung-checkflug-46/
CATEGORIES:Cirrus SR22 D-EMYA
END:VEVENT
BEGIN:VEVENT
DTSTART;TZID=Europe/Berlin:20260313T100000
DTEND;TZID=Europe/Berlin:20260313T160000
DTSTAMP:20260421T133612
CREATED:20260129T211116Z
LAST-MODIFIED:20260129T211116Z
UID:5213-1773396000-1773417600@www.myairplane.de
SUMMARY:Kundenbuchung - Training
DESCRIPTION:Mathias mit Sven
URL:https://www.myairplane.de/event/kundenbuchung-training-163/
CATEGORIES:Cirrus SR22 D-EMYA
END:VEVENT
BEGIN:VEVENT
DTSTART;TZID=Europe/Berlin:20260306T080000
DTEND;TZID=Europe/Berlin:20260308T180000
DTSTAMP:20260421T133612
CREATED:20260113T110629Z
LAST-MODIFIED:20260113T110629Z
UID:5165-1772784000-1772992800@www.myairplane.de
SUMMARY:Kundenbuchung
DESCRIPTION:Constantin
URL:https://www.myairplane.de/event/kundenbuchung-483/
CATEGORIES:Cirrus SR22 D-EMYA
END:VEVENT
BEGIN:VEVENT
DTSTART;TZID=Europe/Berlin:20260302T140000
DTEND;TZID=Europe/Berlin:20260302T180000
DTSTAMP:20260421T133612
CREATED:20260217T090824Z
LAST-MODIFIED:20260217T090824Z
UID:5249-1772460000-1772474400@www.myairplane.de
SUMMARY:Kundenbuchung
DESCRIPTION:Mathias mit Hendrick
URL:https://www.myairplane.de/event/kundenbuchung-488/
CATEGORIES:Cirrus SR22 D-EMYA
END:VEVENT
BEGIN:VEVENT
DTSTART;TZID=Europe/Berlin:20260301T080000
DTEND;TZID=Europe/Berlin:20260301T130000
DTSTAMP:20260421T133612
CREATED:20260208T161443Z
LAST-MODIFIED:20260208T161443Z
UID:5225-1772352000-1772370000@www.myairplane.de
SUMMARY:Kundenbuchung
DESCRIPTION:Constantin
URL:https://www.myairplane.de/event/kundenbuchung-487/
CATEGORIES:Cirrus SR22 D-EMYA
END:VEVENT
BEGIN:VEVENT
DTSTART;TZID=Europe/Berlin:20260228T090000
DTEND;TZID=Europe/Berlin:20260228T200000
DTSTAMP:20260421T133612
CREATED:20260208T195432Z
LAST-MODIFIED:20260208T195432Z
UID:5243-1772269200-1772308800@www.myairplane.de
SUMMARY:Kundenbuchung
DESCRIPTION:Philipp und Dirk
URL:https://www.myairplane.de/event/kundenbuchung-499/
CATEGORIES:Cirrus SR22 D-EMYA
END:VEVENT
BEGIN:VEVENT
DTSTART;TZID=Europe/Berlin:20260227T140000
DTEND;TZID=Europe/Berlin:20260227T203000
DTSTAMP:20260421T133612
CREATED:20260129T211015Z
LAST-MODIFIED:20260225T090551Z
UID:5210-1772200800-1772224200@www.myairplane.de
SUMMARY:Kundenbuchung - Training
DESCRIPTION:Mathias mit Sven
URL:https://www.myairplane.de/event/kundenbuchung-training-162/
CATEGORIES:Cirrus SR22 D-EMYA
END:VEVENT
BEGIN:VEVENT
DTSTART;TZID=Europe/Berlin:20260225T150000
DTEND;TZID=Europe/Berlin:20260225T200000
DTSTAMP:20260421T133612
CREATED:20260208T162345Z
LAST-MODIFIED:20260208T162345Z
UID:5234-1772031600-1772049600@www.myairplane.de
SUMMARY:Kundenbuchung - Training
DESCRIPTION:Mathias mit Linus
URL:https://www.myairplane.de/event/kundenbuchung-training-165/
CATEGORIES:Cirrus SR22 D-EMYA
END:VEVENT
BEGIN:VEVENT
DTSTART;TZID=Europe/Berlin:20260224T140000
DTEND;TZID=Europe/Berlin:20260224T190000
DTSTAMP:20260421T133612
CREATED:20260208T162255Z
LAST-MODIFIED:20260208T162255Z
UID:5231-1771941600-1771959600@www.myairplane.de
SUMMARY:Kundenbuchung - Training
DESCRIPTION:Mathias mit Linus
URL:https://www.myairplane.de/event/kundenbuchung-training-164/
CATEGORIES:Cirrus SR22 D-EMYA
END:VEVENT
BEGIN:VEVENT
DTSTART;TZID=Europe/Berlin:20260222T080000
DTEND;TZID=Europe/Berlin:20260222T180000
DTSTAMP:20260421T133612
CREATED:20260208T163327Z
LAST-MODIFIED:20260208T163327Z
UID:5240-1771747200-1771783200@www.myairplane.de
SUMMARY:Kundenbuchung
DESCRIPTION:Constantin
URL:https://www.myairplane.de/event/kundenbuchung-498/
CATEGORIES:Cirrus SR22 D-EMYA
END:VEVENT
BEGIN:VEVENT
DTSTART;TZID=Europe/Berlin:20260220T170000
DTEND;TZID=Europe/Berlin:20260220T200000
DTSTAMP:20260421T133612
CREATED:20260219T133625Z
LAST-MODIFIED:20260219T133625Z
UID:5258-1771606800-1771617600@www.myairplane.de
SUMMARY:Kundenbuchung
DESCRIPTION:Paul
URL:https://www.myairplane.de/event/kundenbuchung-502/
CATEGORIES:Cirrus SR22 D-EMYA
END:VEVENT
BEGIN:VEVENT
DTSTART;TZID=Europe/Berlin:20260219T180000
DTEND;TZID=Europe/Berlin:20260219T200000
DTSTAMP:20260421T133612
CREATED:20260219T133444Z
LAST-MODIFIED:20260219T133444Z
UID:5255-1771524000-1771531200@www.myairplane.de
SUMMARY:Kundenbuchung
DESCRIPTION:Paul
URL:https://www.myairplane.de/event/kundenbuchung-501/
CATEGORIES:Cirrus SR22 D-EMYA
END:VEVENT
BEGIN:VEVENT
DTSTART;TZID=Europe/Berlin:20260219T130000
DTEND;TZID=Europe/Berlin:20260219T180000
DTSTAMP:20260421T133612
CREATED:20260208T161254Z
LAST-MODIFIED:20260216T212746Z
UID:5222-1771506000-1771524000@www.myairplane.de
SUMMARY:Kundenbuchung - IR Check
DESCRIPTION:Mathias mit Tomasz
URL:https://www.myairplane.de/event/kundenbuchung-ir-check-4/
CATEGORIES:Cirrus SR22 D-EMYA
END:VEVENT
BEGIN:VEVENT
DTSTART;TZID=Europe/Berlin:20260216T090000
DTEND;TZID=Europe/Berlin:20260216T130000
DTSTAMP:20260421T133612
CREATED:20260208T162919Z
LAST-MODIFIED:20260208T162919Z
UID:5237-1771232400-1771246800@www.myairplane.de
SUMMARY:Kundenbuchung
DESCRIPTION:Paul
URL:https://www.myairplane.de/event/kundenbuchung-497/
CATEGORIES:Cirrus SR22 D-EMYA
END:VEVENT
BEGIN:VEVENT
DTSTART;TZID=Europe/Berlin:20260131T130000
DTEND;TZID=Europe/Berlin:20260131T170000
DTSTAMP:20260421T133612
CREATED:20260113T104900Z
LAST-MODIFIED:20260113T104918Z
UID:5156-1769864400-1769878800@www.myairplane.de
SUMMARY:Kundenbuchung - IR Check
DESCRIPTION:Mathias mit Tomasz
URL:https://www.myairplane.de/event/kundenbuchung-481/
CATEGORIES:Cirrus SR22 D-EMYA
END:VEVENT
BEGIN:VEVENT
DTSTART;TZID=Europe/Berlin:20260131T090000
DTEND;TZID=Europe/Berlin:20260131T130000
DTSTAMP:20260421T133612
CREATED:20251221T191744Z
LAST-MODIFIED:20260109T093428Z
UID:5143-1769850000-1769864400@www.myairplane.de
SUMMARY:Kundenbuchung - Training
DESCRIPTION:Mathias mit Constantin
URL:https://www.myairplane.de/event/kundenbuchung-training-160/
CATEGORIES:Cirrus SR22 D-EMYA
END:VEVENT
BEGIN:VEVENT
DTSTART;TZID=Europe/Berlin:20260130T150000
DTEND;TZID=Europe/Berlin:20260130T190000
DTSTAMP:20260421T133612
CREATED:20260109T093503Z
LAST-MODIFIED:20260109T093503Z
UID:5151-1769785200-1769799600@www.myairplane.de
SUMMARY:Kundenbuchung
DESCRIPTION:Philip
URL:https://www.myairplane.de/event/kundenbuchung-480/
CATEGORIES:Cirrus SR22 D-EMYA
END:VEVENT
BEGIN:VEVENT
DTSTART;TZID=Europe/Berlin:20260123T090000
DTEND;TZID=Europe/Berlin:20260123T130000
DTSTAMP:20260421T133612
CREATED:20260120T135837Z
LAST-MODIFIED:20260120T135837Z
UID:5185-1769158800-1769173200@www.myairplane.de
SUMMARY:Kundenbuchung - Training
DESCRIPTION:Mathias mit Constantin
URL:https://www.myairplane.de/event/kundenbuchung-training-161/
CATEGORIES:Cirrus SR22 D-EMYA
END:VEVENT
BEGIN:VEVENT
DTSTART;TZID=Europe/Berlin:20260121T080000
DTEND;TZID=Europe/Berlin:20260121T200000
DTSTAMP:20260421T133612
CREATED:20260120T135904Z
LAST-MODIFIED:20260120T135904Z
UID:5188-1768982400-1769025600@www.myairplane.de
SUMMARY:Werft
DESCRIPTION:
URL:https://www.myairplane.de/event/werft-13/
CATEGORIES:Cirrus SR22 D-EMYA
END:VEVENT
BEGIN:VEVENT
DTSTART;TZID=Europe/Berlin:20251223T080000
DTEND;TZID=Europe/Berlin:20260103T200000
DTSTAMP:20260421T133612
CREATED:20251222T194410Z
LAST-MODIFIED:20251222T194410Z
UID:5146-1766476800-1767470400@www.myairplane.de
SUMMARY:Kundenbuchung
DESCRIPTION:Tomasz
URL:https://www.myairplane.de/event/kundenbuchung-479/
CATEGORIES:Cirrus SR22 D-EMYA
END:VEVENT
BEGIN:VEVENT
DTSTART;TZID=Europe/Berlin:20251128T170000
DTEND;TZID=Europe/Berlin:20251128T210000
DTSTAMP:20260421T133612
CREATED:20251118T170147Z
LAST-MODIFIED:20251118T170147Z
UID:5135-1764349200-1764363600@www.myairplane.de
SUMMARY:Kundenbuchung
DESCRIPTION:Philip und Dirk
URL:https://www.myairplane.de/event/kundenbuchung-477/
CATEGORIES:Cirrus SR22 D-EMYA
END:VEVENT
BEGIN:VEVENT
DTSTART;TZID=Europe/Berlin:20251128T100000
DTEND;TZID=Europe/Berlin:20251128T160000
DTSTAMP:20260421T133612
CREATED:20251105T110400Z
LAST-MODIFIED:20251105T110400Z
UID:5128-1764324000-1764345600@www.myairplane.de
SUMMARY:Kundenbuchung - Training
DESCRIPTION:Mathias mit Sven
URL:https://www.myairplane.de/event/kundenbuchung-training-158/
CATEGORIES:Cirrus SR22 D-EMYA
END:VEVENT
BEGIN:VEVENT
DTSTART;TZID=Europe/Berlin:20251122T090000
DTEND;TZID=Europe/Berlin:20251122T200000
DTSTAMP:20260421T133612
CREATED:20251028T173240Z
LAST-MODIFIED:20251028T173240Z
UID:5121-1763802000-1763841600@www.myairplane.de
SUMMARY:Kundenbuchung
DESCRIPTION:Philip
URL:https://www.myairplane.de/event/kundenbuchung-475/
CATEGORIES:Cirrus SR22 D-EMYA
END:VEVENT
END:VCALENDAR