BEGIN:VCALENDAR
VERSION:2.0
PRODID:-//myAirplane - ECPv6.15.20//NONSGML v1.0//EN
CALSCALE:GREGORIAN
METHOD:PUBLISH
X-WR-CALNAME:myAirplane
X-ORIGINAL-URL:https://www.myairplane.de
X-WR-CALDESC:Veranstaltungen für myAirplane
REFRESH-INTERVAL;VALUE=DURATION:PT1H
X-Robots-Tag:noindex
X-PUBLISHED-TTL:PT1H
BEGIN:VTIMEZONE
TZID:Europe/Berlin
BEGIN:DAYLIGHT
TZOFFSETFROM:+0100
TZOFFSETTO:+0200
TZNAME:CEST
DTSTART:20230326T010000
END:DAYLIGHT
BEGIN:STANDARD
TZOFFSETFROM:+0200
TZOFFSETTO:+0100
TZNAME:CET
DTSTART:20231029T010000
END:STANDARD
BEGIN:DAYLIGHT
TZOFFSETFROM:+0100
TZOFFSETTO:+0200
TZNAME:CEST
DTSTART:20240331T010000
END:DAYLIGHT
BEGIN:STANDARD
TZOFFSETFROM:+0200
TZOFFSETTO:+0100
TZNAME:CET
DTSTART:20241027T010000
END:STANDARD
BEGIN:DAYLIGHT
TZOFFSETFROM:+0100
TZOFFSETTO:+0200
TZNAME:CEST
DTSTART:20250330T010000
END:DAYLIGHT
BEGIN:STANDARD
TZOFFSETFROM:+0200
TZOFFSETTO:+0100
TZNAME:CET
DTSTART:20251026T010000
END:STANDARD
BEGIN:DAYLIGHT
TZOFFSETFROM:+0100
TZOFFSETTO:+0200
TZNAME:CEST
DTSTART:20260329T010000
END:DAYLIGHT
BEGIN:STANDARD
TZOFFSETFROM:+0200
TZOFFSETTO:+0100
TZNAME:CET
DTSTART:20261025T010000
END:STANDARD
END:VTIMEZONE
BEGIN:VEVENT
DTSTART;TZID=Europe/Berlin:20241123T080000
DTEND;TZID=Europe/Berlin:20251231T200000
DTSTAMP:20260421T234915
CREATED:20241123T115405Z
LAST-MODIFIED:20250825T201707Z
UID:4770-1732348800-1767211200@www.myairplane.de
SUMMARY:Langzeitbuchung
DESCRIPTION:
URL:https://www.myairplane.de/event/langzeitbuchung/
CATEGORIES:Cessna 172 D-EVEL
END:VEVENT
BEGIN:VEVENT
DTSTART;TZID=Europe/Berlin:20251128T100000
DTEND;TZID=Europe/Berlin:20251128T160000
DTSTAMP:20260421T234915
CREATED:20251105T110400Z
LAST-MODIFIED:20251105T110400Z
UID:5128-1764324000-1764345600@www.myairplane.de
SUMMARY:Kundenbuchung - Training
DESCRIPTION:Mathias mit Sven
URL:https://www.myairplane.de/event/kundenbuchung-training-158/
CATEGORIES:Cirrus SR22 D-EMYA
END:VEVENT
BEGIN:VEVENT
DTSTART;TZID=Europe/Berlin:20251128T170000
DTEND;TZID=Europe/Berlin:20251128T210000
DTSTAMP:20260421T234915
CREATED:20251118T170147Z
LAST-MODIFIED:20251118T170147Z
UID:5135-1764349200-1764363600@www.myairplane.de
SUMMARY:Kundenbuchung
DESCRIPTION:Philip und Dirk
URL:https://www.myairplane.de/event/kundenbuchung-477/
CATEGORIES:Cirrus SR22 D-EMYA
END:VEVENT
END:VCALENDAR