BEGIN:VCALENDAR
VERSION:2.0
PRODID:-//myAirplane - ECPv6.15.20//NONSGML v1.0//EN
CALSCALE:GREGORIAN
METHOD:PUBLISH
X-ORIGINAL-URL:https://www.myairplane.de
X-WR-CALDESC:Veranstaltungen für myAirplane
REFRESH-INTERVAL;VALUE=DURATION:PT1H
X-Robots-Tag:noindex
X-PUBLISHED-TTL:PT1H
BEGIN:VTIMEZONE
TZID:Europe/Berlin
BEGIN:DAYLIGHT
TZOFFSETFROM:+0100
TZOFFSETTO:+0200
TZNAME:CEST
DTSTART:20230326T010000
END:DAYLIGHT
BEGIN:STANDARD
TZOFFSETFROM:+0200
TZOFFSETTO:+0100
TZNAME:CET
DTSTART:20231029T010000
END:STANDARD
BEGIN:DAYLIGHT
TZOFFSETFROM:+0100
TZOFFSETTO:+0200
TZNAME:CEST
DTSTART:20240331T010000
END:DAYLIGHT
BEGIN:STANDARD
TZOFFSETFROM:+0200
TZOFFSETTO:+0100
TZNAME:CET
DTSTART:20241027T010000
END:STANDARD
BEGIN:DAYLIGHT
TZOFFSETFROM:+0100
TZOFFSETTO:+0200
TZNAME:CEST
DTSTART:20250330T010000
END:DAYLIGHT
BEGIN:STANDARD
TZOFFSETFROM:+0200
TZOFFSETTO:+0100
TZNAME:CET
DTSTART:20251026T010000
END:STANDARD
END:VTIMEZONE
BEGIN:VEVENT
DTSTART;TZID=Europe/Berlin:20240624T080000
DTEND;TZID=Europe/Berlin:20240711T160000
DTSTAMP:20260423T110859
CREATED:20240620T144756Z
LAST-MODIFIED:20240705T134450Z
UID:4477-1719216000-1720713600@www.myairplane.de
SUMMARY:Werft
DESCRIPTION:
URL:https://www.myairplane.de/event/werft-9/
CATEGORIES:Cessna 172 D-EVEL
END:VEVENT
BEGIN:VEVENT
DTSTART;TZID=Europe/Berlin:20240705T090000
DTEND;TZID=Europe/Berlin:20240705T130000
DTSTAMP:20260423T110859
CREATED:20240626T085348Z
LAST-MODIFIED:20240626T085348Z
UID:4488-1720170000-1720184400@www.myairplane.de
SUMMARY:Kundenbuchung
DESCRIPTION:Mathias mit Dirk
URL:https://www.myairplane.de/event/kundenbuchung-398/
CATEGORIES:Cirrus SR22 D-EMYA
END:VEVENT
END:VCALENDAR