BEGIN:VCALENDAR
VERSION:2.0
PRODID:-//myAirplane - ECPv6.15.20//NONSGML v1.0//EN
CALSCALE:GREGORIAN
METHOD:PUBLISH
X-ORIGINAL-URL:https://www.myairplane.de
X-WR-CALDESC:Veranstaltungen für myAirplane
REFRESH-INTERVAL;VALUE=DURATION:PT1H
X-Robots-Tag:noindex
X-PUBLISHED-TTL:PT1H
BEGIN:VTIMEZONE
TZID:Europe/Berlin
BEGIN:DAYLIGHT
TZOFFSETFROM:+0100
TZOFFSETTO:+0200
TZNAME:CEST
DTSTART:20220327T010000
END:DAYLIGHT
BEGIN:STANDARD
TZOFFSETFROM:+0200
TZOFFSETTO:+0100
TZNAME:CET
DTSTART:20221030T010000
END:STANDARD
BEGIN:DAYLIGHT
TZOFFSETFROM:+0100
TZOFFSETTO:+0200
TZNAME:CEST
DTSTART:20230326T010000
END:DAYLIGHT
BEGIN:STANDARD
TZOFFSETFROM:+0200
TZOFFSETTO:+0100
TZNAME:CET
DTSTART:20231029T010000
END:STANDARD
BEGIN:DAYLIGHT
TZOFFSETFROM:+0100
TZOFFSETTO:+0200
TZNAME:CEST
DTSTART:20240331T010000
END:DAYLIGHT
BEGIN:STANDARD
TZOFFSETFROM:+0200
TZOFFSETTO:+0100
TZNAME:CET
DTSTART:20241027T010000
END:STANDARD
END:VTIMEZONE
BEGIN:VEVENT
DTSTART;TZID=Europe/Berlin:20230605T130000
DTEND;TZID=Europe/Berlin:20230605T170000
DTSTAMP:20260424T043704
CREATED:20230602T155537Z
LAST-MODIFIED:20230602T155537Z
UID:3778-1685970000-1685984400@www.myairplane.de
SUMMARY:Kundenbuchung
DESCRIPTION:Dylan
URL:https://www.myairplane.de/event/kundenbuchung-300/
CATEGORIES:Cessna 172 D-EVEL
END:VEVENT
BEGIN:VEVENT
DTSTART;TZID=Europe/Berlin:20230605T180000
DTEND;TZID=Europe/Berlin:20230605T200000
DTSTAMP:20260424T043704
CREATED:20230604T182048Z
LAST-MODIFIED:20230604T182048Z
UID:3785-1685988000-1685995200@www.myairplane.de
SUMMARY:Kundenbuchung - Training
DESCRIPTION:Steffen mit Selim
URL:https://www.myairplane.de/event/kundenbuchung-training-101/
CATEGORIES:Cessna 172 D-EVEL
END:VEVENT
END:VCALENDAR